BEGIN:VCALENDAR
VERSION:2.0
PRODID:-//wp-events-plugin.com//7.2.3.1//EN
TZID:Europe/Vienna
X-WR-TIMEZONE:Europe/Vienna
BEGIN:VEVENT
UID:166@schlor.org
DTSTART;TZID=Europe/Vienna:20241205T193000
DTEND;TZID=Europe/Vienna:20241205T235900
DTSTAMP:20241125T095348Z
URL:https://schlor.org/events/salon-skug-ines-wurst-skug-talk-dj-line/
SUMMARY:Salon skug: Ines Wurst / skug-Talk & DJ-Line
DESCRIPTION:\n\nDer Salon skug lädt am 5. Dezember 2024 ins Simmeringer sc
 hloR – mit Diskussion statt Deko\, Gemeinschaft statt Einsamkeit und Mus
 ik\, die verbindet. Zwischen Talk und Konzert von Ines Wurst feiern wir so
 lidarisch Weihnachten – ohne Kitsch\, aber mit Glühwein und viel guter 
 Laune!\n\nHohoho\, aber bitte solidarisch! Es ist Dezember\, die Kekserl r
 iechen nach Politik\, der Glühwein nach Aufstand\, und wir haben den perf
 ekten Plan für euch: Am 5. Dezember lädt der Salon skug ins SchloR in Si
 mmering – und wenn das nicht nach der besten Weihnachtsfeier klingt\, wi
 ssen wir auch nicht weiter. Wir kombinieren musikalische Träumereien mit 
 einem Talk\, der versucht\, gegen die allgemeine gesellschaftliche Resigna
 tion anzureden.\n\nInes Wurst – alles andere als zufällig\n\nSie ist da
 \, um Herzen zu brechen und euch wieder zusammenzusetzen: Ines Wurst\, Sch
 auspielerin\, Sängerin und mittlerweile Meisterin im Verarbeiten von Selb
 stzweifeln in butterweichen Lo-Fi- und Dreampop-Hymnen. Ihre EP »Zufälli
 g« klingt wie der Soundtrack zu einem Spaziergang durch die inneren Konfl
 ikte – melancholisch\, aber mit dem Glitzer einer Schneekugel und in dic
 kes seelenwärmendes Lametta verpackt. Eine Reise durch Herz\, Hirn und Ha
 rmonie!
CATEGORIES:Café/Beisl,Externe Veranstaltung,Freie Spende,Freier
 Eintritt,Konzert,Vortrag/Diskussion
LOCATION:Rappachgasse 26\, 1110 Wien\, \, 
X-APPLE-STRUCTURED-LOCATION;VALUE=URI;X-ADDRESS=\, ;X-APPLE-RADIUS=100;X-TI
 TLE=Rappachgasse 26\, 1110 Wien:geo:0,0
END:VEVENT
BEGIN:VTIMEZONE
TZID:Europe/Vienna
X-LIC-LOCATION:Europe/Vienna
BEGIN:STANDARD
DTSTART:20241027T020000
TZOFFSETFROM:+0200
TZOFFSETTO:+0100
TZNAME:CET
END:STANDARD
END:VTIMEZONE
END:VCALENDAR