BEGIN:VCALENDAR
VERSION:2.0
PRODID:-//wp-events-plugin.com//7.2.3.1//EN
TZID:Europe/Vienna
X-WR-TIMEZONE:Europe/Vienna
BEGIN:VEVENT
UID:158@schlor.org
DTSTART;TZID=Europe/Vienna:20240923T160000
DTEND;TZID=Europe/Vienna:20240923T200000
DTSTAMP:20240913T110055Z
URL:https://schlor.org/events/radikale-therapie-infoabend/
SUMMARY:Radikale Therapie Infoabend
DESCRIPTION:\nDie Radikale Therapie ist ein wunderbare Methode für hierarc
 hiefreie Gruppen-Emo-Care und Selbsterfahrung – ein feministisches Selbs
 thilfekonzept mit langer Geschichte. Wir geben an diesem Nachmittag/Abend 
 einen Einblick. Interessierte können sich danach in einen Gruppengründun
 gsprozess begeben. Bitte bring ein Polster oder sonst etwas gemütliches z
 um Draufsitzen mit. Gerne auch ein Decke oder was auch immer du brauchst\,
  um dich wohlzufühlen.\n\nAußerdem bräuchte es 3 Euro pro Person als Ra
 umspende.\n\nDamit wir den Überblick nicht verlieren\, gibt es ein Anmeld
 eformular\n\nAuch wenn du nur vielleicht/wahrscheinlich kommst bitte das F
 ormular ausfüllen - damit wir besser planen können!\n\nAußerdem gibt es
  die Option anzugeben\, dass du am 23. September nicht kannst\, aber weite
 rhin Interesse hast. Falls es einen weiteren Info-Abend gibt\, werden wir 
 dich dann kontaktieren.\n\nWenn du noch Fragen hast\, auch gerne in das Ko
 mmentarfeld am Ende schreiben 🙂
CATEGORIES:Beratung,Mitmachen,Startseite
 Termin,Vortrag/Diskussion,Workshop
LOCATION:Rappachgasse 26\, 1110 Wien\, \, 
X-APPLE-STRUCTURED-LOCATION;VALUE=URI;X-ADDRESS=\, ;X-APPLE-RADIUS=100;X-TI
 TLE=Rappachgasse 26\, 1110 Wien:geo:0,0
END:VEVENT
BEGIN:VTIMEZONE
TZID:Europe/Vienna
X-LIC-LOCATION:Europe/Vienna
BEGIN:DAYLIGHT
DTSTART:20240331T030000
TZOFFSETFROM:+0100
TZOFFSETTO:+0200
TZNAME:CEST
END:DAYLIGHT
END:VTIMEZONE
END:VCALENDAR