BEGIN:VCALENDAR
VERSION:2.0
PRODID:-//wp-events-plugin.com//7.2.3.1//EN
TZID:Europe/Vienna
X-WR-TIMEZONE:Europe/Vienna
BEGIN:VEVENT
UID:161@schlor.org
DTSTART;TZID=Europe/Vienna:20241109T160000
DTEND;TZID=Europe/Vienna:20241110T020000
DTSTAMP:20241028T100138Z
URL:https://schlor.org/events/pyrite-conjunto-cachoeira-for-kids-and-every
 one-else/
SUMMARY:Pyrite &amp\; Conjunto cachoeira for kids and everyone else :)
DESCRIPTION:\n\n16:30 Pyrite for kids (ohne Schlagzeug)\n18:00 Pyrite\n19:3
 0 Conjunto Cachoeira
CATEGORIES:CRAP,Freie Spende,Konzert,Startseite Termin
LOCATION:Rappachgasse 26\, 1110 Wien\, \, 
X-APPLE-STRUCTURED-LOCATION;VALUE=URI;X-ADDRESS=\, ;X-APPLE-RADIUS=100;X-TI
 TLE=Rappachgasse 26\, 1110 Wien:geo:0,0
END:VEVENT
BEGIN:VTIMEZONE
TZID:Europe/Vienna
X-LIC-LOCATION:Europe/Vienna
BEGIN:STANDARD
DTSTART:20241027T020000
TZOFFSETFROM:+0200
TZOFFSETTO:+0100
TZNAME:CET
END:STANDARD
END:VTIMEZONE
END:VCALENDAR