BEGIN:VCALENDAR
VERSION:2.0
PRODID:-//wp-events-plugin.com//7.2.3.1//EN
TZID:Europe/Vienna
X-WR-TIMEZONE:Europe/Vienna
BEGIN:VEVENT
UID:160@schlor.org
DTSTART;TZID=Europe/Vienna:20241024T170000
DTEND;TZID=Europe/Vienna:20241024T200000
DTSTAMP:20241023T161420Z
URL:https://schlor.org/events/proben-fuer-die-wirklichkeit-theaterworkshop
 /
SUMMARY:Proben für die Wirklichkeit. Theaterworkshop.
DESCRIPTION:StoP-Stadtteile ohne Partnergewalt bietet kostenlose Theater-Wo
 rkshops an:\nMithilfe kreativer Methoden setzen wir uns mit den Themen pat
 riarchale Gewalt und Zivilcourage auseinander. In einem geschützten Raum 
 ist Platz zum Ausprobieren\, Austauschen und spielerischen Ausdruck.\nDie 
 Teilnehmer*innen erproben Zivilcourage für die Wirklichkeit\, um dieser g
 estärkt entgegentreten zu können.\nWorkshopleitung: Stefanie Bernhofer\
 , StoP – Stadtteile ohne Partnergewalt\nMehr Infos\, sowie weitere Termi
 ne unter: Die Zelle im Herbst 2024 – StoP – Stadtteile ohne Partnergew
 alt | Österreich (stop-partnergewalt.at)\n&nbsp\;
CATEGORIES:Externe Veranstaltung,Mitmachen,Startseite Termin,Workshop
LOCATION:Rappachgasse 26\, 1110 Wien\, \, 
X-APPLE-STRUCTURED-LOCATION;VALUE=URI;X-ADDRESS=\, ;X-APPLE-RADIUS=100;X-TI
 TLE=Rappachgasse 26\, 1110 Wien:geo:0,0
END:VEVENT
BEGIN:VTIMEZONE
TZID:Europe/Vienna
X-LIC-LOCATION:Europe/Vienna
BEGIN:DAYLIGHT
DTSTART:20240331T030000
TZOFFSETFROM:+0100
TZOFFSETTO:+0200
TZNAME:CEST
END:DAYLIGHT
END:VTIMEZONE
END:VCALENDAR