BEGIN:VCALENDAR
VERSION:2.0
PRODID:-//wp-events-plugin.com//7.2.3.1//EN
TZID:Europe/Vienna
X-WR-TIMEZONE:Europe/Vienna
BEGIN:VEVENT
UID:147@schlor.org
DTSTART;TZID=Europe/Vienna:20230628T190000
DTEND;TZID=Europe/Vienna:20230628T235900
DTSTAMP:20230626T051101Z
URL:https://schlor.org/events/mittwochs-beisl-mit-konzert-penelope-ness-in
 -schlorida/
SUMMARY:Mittwochs BeisL mit Konzert \\\\\\"Penelope Ness\\\\\\" in schlorid
 a
DESCRIPTION:Penelope Ness is a genderqueer musician and drag artist\, takin
 g inspiration anywhere from classical to pop\, with a healthy serving of E
 nglish folk. Their songs tell stories - some true\, some imagined\, but al
 l building on the core emotions that bind us together. Instagram/YouTube: 
 @penelopeness\n\nCome and join - Lets have a queer folk-music night in sch
 lorida.
ATTACH;FMTTYPE=image/jpeg:https://schlor.org/wp-content/uploads/2023/06/20
 23_06_28-beisl_ness_concert@schlorina_size-700.jpg
CATEGORIES:Konzert
LOCATION:Rappachgasse 26\, 1110 Wien\, \, 
X-APPLE-STRUCTURED-LOCATION;VALUE=URI;X-ADDRESS=\, ;X-APPLE-RADIUS=100;X-TI
 TLE=Rappachgasse 26\, 1110 Wien:geo:0,0
END:VEVENT
BEGIN:VTIMEZONE
TZID:Europe/Vienna
X-LIC-LOCATION:Europe/Vienna
BEGIN:DAYLIGHT
DTSTART:20230326T030000
TZOFFSETFROM:+0100
TZOFFSETTO:+0200
TZNAME:CEST
END:DAYLIGHT
END:VTIMEZONE
END:VCALENDAR