BEGIN:VCALENDAR
VERSION:2.0
PRODID:-//wp-events-plugin.com//7.2.3.1//EN
TZID:Europe/Vienna
X-WR-TIMEZONE:Europe/Vienna
BEGIN:VEVENT
UID:141@schlor.org
DTSTART;TZID=Europe/Vienna:20230510T210000
DTEND;TZID=Europe/Vienna:20230510T234500
DTSTAMP:20230413T163654Z
URL:https://schlor.org/events/lavanda-kawumm-album-release-tour/
SUMMARY:Lavanda Kawumm Album-Release Tour
DESCRIPTION:Lavanda Kawumm singt selbst Gedichtetes in unterschiedlichen Sp
 rachen. Sie setzt\nsich auf ihre Weise mit den Themen Gleichberechtigung\,
  Migration und Freiheit\nauseinander und lädt die Zuhörenden ein daran t
 eilzuhaben. Die Clownin vom Mond\nist auf der Erde um nach dem Schönen au
 f der Erde zu suchen und findet\nFreundschaft\, Liebe\, Leidenschaft\, Gel
 assenheit\, Freiheit und zwischenmenschliche\nSolidarität. Im April 2023 
 veröffentlicht sie ihr neues Album „Don´t bomb\nthe earth“ und tourt
  damit durch Österreich. Alles\, was Madmoiselle Kawumm\ntut\, tut sie mi
 t Begeisterung und Leidenschaft\, aber auch mit einer großen\nPortion Mut
  zum Scheitern. Bunt\, aber trotzdem kritisch?! Bildet euch selbst eine\nM
 einung!\n\nwww.kawumm.rocks
ATTACH;FMTTYPE=image/jpeg:https://schlor.org/wp-content/uploads/2023/04/La
 vanda-Kawumm-Flyer-Release-tour-klein.jpeg
CATEGORIES:Café/Beisl,CRAP,Freier Eintritt,Konzert,Startseite Termin
LOCATION:Rappachgasse 26\, 1110 Wien\, \, 
X-APPLE-STRUCTURED-LOCATION;VALUE=URI;X-ADDRESS=\, ;X-APPLE-RADIUS=100;X-TI
 TLE=Rappachgasse 26\, 1110 Wien:geo:0,0
END:VEVENT
BEGIN:VTIMEZONE
TZID:Europe/Vienna
X-LIC-LOCATION:Europe/Vienna
BEGIN:DAYLIGHT
DTSTART:20230326T030000
TZOFFSETFROM:+0100
TZOFFSETTO:+0200
TZNAME:CEST
END:DAYLIGHT
END:VTIMEZONE
END:VCALENDAR