BEGIN:VCALENDAR
VERSION:2.0
PRODID:-//wp-events-plugin.com//7.2.3.1//EN
TZID:Europe/Vienna
X-WR-TIMEZONE:Europe/Vienna
BEGIN:VEVENT
UID:122@schlor.org
DTSTART;TZID=Europe/Vienna:20230430T170000
DTEND;TZID=Europe/Vienna:20230430T234500
DTSTAMP:20230430T144634Z
URL:https://schlor.org/events/eintagesfestival-splizz-lieek-poky-baembaem/
SUMMARY:Eintagesfestival: splizz/lieek/poky/bämbäm
DESCRIPTION:more infos coming soon....\n\nhttps://ofbitsandpieces.bandcamp.
 com/album/snitsh-pitsh\n\nONYONraytrack session! https://www.youtube.com/w
 atch?v=8u1hosDdz_8onyon.bandcamp.com\nhttps://onyon.bandcamp.com\n\nPapenH
 OLAjulienpapen.bandcamp.com\nhttps://julienpapen.bandcamp.com\n\nsplizz.ba
 ndcamp.com\n\nhttps://poky.bandcamp.com\n\nhttps://liiek.bandcamp.com/albu
 m/7\n\nhttps://lafffbox.bandcamp.com/album/s-t
CATEGORIES:Startseite Termin
LOCATION:Rappachgasse 26\, 1110 Wien\, \, 
X-APPLE-STRUCTURED-LOCATION;VALUE=URI;X-ADDRESS=\, ;X-APPLE-RADIUS=100;X-TI
 TLE=Rappachgasse 26\, 1110 Wien:geo:0,0
END:VEVENT
BEGIN:VTIMEZONE
TZID:Europe/Vienna
X-LIC-LOCATION:Europe/Vienna
BEGIN:DAYLIGHT
DTSTART:20230326T030000
TZOFFSETFROM:+0100
TZOFFSETTO:+0200
TZNAME:CEST
END:DAYLIGHT
END:VTIMEZONE
END:VCALENDAR