BEGIN:VCALENDAR
VERSION:2.0
PRODID:-//wp-events-plugin.com//7.2.3.1//EN
TZID:Europe/Vienna
X-WR-TIMEZONE:Europe/Vienna
BEGIN:VEVENT
UID:138@schlor.org
DTSTART;TZID=Europe/Vienna:20230602T180000
DTEND;TZID=Europe/Vienna:20230602T221500
DTSTAMP:20230330T194936Z
URL:https://schlor.org/events/bondage-workshop-true-feeling-2/
SUMMARY:Bondage Workshop true feeling
DESCRIPTION:Mehr Infos und Anmeldung unter\n\nhttps://truefeeling.at/
CATEGORIES:Startseite Termin
END:VEVENT
BEGIN:VTIMEZONE
TZID:Europe/Vienna
X-LIC-LOCATION:Europe/Vienna
BEGIN:DAYLIGHT
DTSTART:20230326T030000
TZOFFSETFROM:+0100
TZOFFSETTO:+0200
TZNAME:CEST
END:DAYLIGHT
END:VTIMEZONE
END:VCALENDAR