BEGIN:VCALENDAR
VERSION:2.0
PRODID:-//wp-events-plugin.com//7.2.3.1//EN
TZID:Europe/Vienna
X-WR-TIMEZONE:Europe/Vienna
BEGIN:VEVENT
UID:75@schlor.org
DTSTART;TZID=Europe/Vienna:20221022T180000
DTEND;TZID=Europe/Vienna:20221023T040000
DTSTAMP:20221011T181436Z
URL:https://schlor.org/events/baldachin-8-1/
SUMMARY:Baldachin 8.1#
DESCRIPTION:Das Team vom HUT Verein zur Förderung der Kunst freut sich\, d
 as Programm für das diesjährige Baldachin Festival zu verkünden. Diesma
 l begrüßen wir euch am 22. Oktober ab 18:00 Uhr bei SchloR ( Schöner Le
 ben ohne Raiffeisen)\nDas Ein-Tages-Festival „Baldachin 8.1# Demontage F
 estival“ fasst als Deckmantel unterschiedliche Kunstströmungen zusammen
 \, vernetzt diese\, schafft Synergien und lässt die Zuschauer_innen einen
  abwechslungsreichen Tag und atemberaubende Nacht erleben\, bei dem für j
 eden kunstaffinen Geschmack etwas dabei ist.\n\nDas Thema diesmal ist „D
 emontage SchloR“. Das Kunst/Kultur und Baugemeinschaftszentrum SchloR wi
 rd sich in dieser Veranstaltung von der Industriehalle verabschieden\, da 
 diese abgebaut und an anderer Stelle neu errichtet wird. Im Zuge dessen ha
 t der Verein HUT mit der Veranstaltungsreihe Baldachin zuletzt die Möglic
 hkeit euch einen Einblick in das alte Gebäude zu gewähren und dieses zu 
 bespielen. Vielen Dank an Trap und SchloR für diese Möglichkeit:\nhttps:
 //www.circus-trap.org/\nhttps://schlor.org/\nWir bitten euch rücksichtsvo
 ll zu eurer Umwelt und Mitmenschen zu sein! Falls es Beschwerden geben sol
 l könnt ihr euch gerne an uns oder an die Crew von SchloR wenden.\nVon 18
 :00-18:30 Uhr ist der Eintritt frei\, danach Vorschlag 15\,- für den Fest
 ival Tagespass. Vor Ort erhältlich! Wer von 20:30 bis 23:00 kommt zahlt 2
 0\,- danach 10 Euro\nDas Festival geht von 18:00-04:00 Uhr.\nEs partizipie
 ren c.a. 20 Künstler_innen und ein Team von c.a.15. Techniker_innen sowie
  Crew.\nWir freuen uns auf euer Kommen!\n\nProgrammüberblick\n\nMusik Per
 formance:\n19:00 Uhr Ronia\n20:00 Uhr Alex Miksch Solo\n21:00 Uhr Thirsty 
 Eyes\n22:00 Uhr Dj Phekt\n24:00 Uhr Demontage\n\nVisuelle Art:\nLumiéres 
 du Sous-terrain\nKollektiv Lampenschirm\nDie Lichtmaschine\nDiascope analo
 g projekt on\n\nModeration\nAndi Fränzl\n\nProgramm:\nUhrzeit: 19:00 Uhr\
 n×º°”˜`”°º×(Ronia )×º°”˜`”°º×\nR o n i a ist ein One
  Woman-Projekt. Trotzdem immer dabei: Der Zufall\, alte Märchenfilme und 
 Moondog. Die Soundtracks klassischer Märchenfilme des mittleren 20. Jahrh
 underts (z.B. Drei Haselnüsse für Aschenbrödel oder Cinderella) begleit
 en R o n i a schon seit ihrer Kindheit in Graz. Mit ihrem großen Vorbild\
 , dem als Straßenmusiker bekannt gewordenen Moondog\, verbindet die Neo-W
 ienerin der Hang zu Minimalismus und eine eigentümliche Art des Komponier
 ens\, bei dem Zufall und Spontaneität eine zentrale Rolle einnehmen. Dabe
 i entstehen oft minimalistische Klangfiguren aus aufs Notwendigste herunte
 rgebrochenen Klavierthemen oder Gitarrenakkorden\, mit Bedacht eingesetzte
 n Snythesizerflächen und Akzenten durch Blas- oder Streichinstrumente. Im
  Vordergrund stellt die Stimme der Autodidaktin R o n i a fundamentale Fra
 gen übers menschliche Miteinander. Live wird R o n i a von ihrer 4-Köpfi
 gen Band 'the little band' begleitet.\nhttps://seayou.bandcamp.com/album/r
 -o-n-i-a-trapped\nhttps://www.popmagazin.at/.../r-o-n-i-a-mit-deb%C3.../\n
 \nUhrzeit: 20:00 Uhr\n––––•(-•(Alex Miksch )•-)•–––
 –\nDer Gitarrist\, Sänger und Dialekt-Liedermacher Alex Miksch ist eine
  Naturgewalt\, ein Unikat\, dessen Lebenselixier die musikalische Verarbei
 tung seines bewegten Daseins ist. Mit rauer Stimme und energetischem Gitar
 renspiel erzählt er von Erlebtem und gewährt Einblicke in seine Gedanken
 - und Gefühlswelt.\nLiebhabern bluesiger Töne ist er längst kein Unbeka
 nnter mehr\, kann er doch bereits auf eine Vielzahl mitreißender Auftritt
 e in diversen Musikclubs und auf zahlreichen Festivals dieses Landes zurü
 ckblicken.\n\nUhrzeit: 21:00 Uhr\n||¯|_|¯|_(Thirsty Eyes) _|¯|_|¯||\nU
 nited to the rut and yet vis a vis\, THIRSTY EYES crystallizes as a playfu
 l\, surreal spirit of\nVienna Modern Raunch. Sublimity\, which pierces thr
 ough the ears\, determines not only the\ndirection of travel but also the 
 attitude to which one struts. The ensemble brings comfort to\nthe dancer w
 ithout shoes\, the cigarette without a lighter\, the rooster without a coc
 kscomb.\nThe emergence of such a phenomenon makes even the last snot to th
 row away the toupee\nand indulge in madness.\nSamuel Ebner: Vocals\nPhilip
 p Moosbrugger: Steel Guitar\, Guitar\, Organ\, Bass\nMichael Hornek: Organ
  Kristof Hahn\,\nKlaus Gstettner: Modular Cabassa\nAndreas Hellweger: Perc
 ussion\nJenny Gitschner: Drums\nhttps://www.derstandard.at/.../die-wiener-
 band-thirsty...\nhttps://open.spotify.com/artist/2zC2ZZxrgVRUFxaJ9bXF7c...
 \nhttps://www.facebook.com/thirstyeyesband/\nhttps://www.instagram.com/thi
 rstyeyes/?hl=de\n\nUhrzeit: 22:00 Uhr\n··¤(`×[¤ DJ Phekt¤]×´)¤·
 ·\nDJ Phekt ist seit 1995 hinter den Plattenspielern aktiv und war als DJ
  mit Künstler*innen wie Fiva\, Kayo oder Markante Handlungen jahrelang li
 ve unterwegs und in deren Album-Produktionen involviert. Bei Radio FM4 ges
 taltet er unter anderem wöchentlich als DJ und Co-Moderator die Sendung 
 „FM4 Tribe Vibes“. In seinen von Turntable-Skills geprägten Sets verb
 indet er die Gegenwart mit der Vergangenheit und fusioniert Hip Hop\, Funk
 \, Reggae/Dancehall etc. zu einer tanzbaren Melange. DJ Phekt hat schon Cl
 ubs und Festivals in Los Angeles\, Mexiko\, Moskau\, Tel Aviv und in zieml
 ich jedem Winkel im deutschsprachigen Raum bespielt.\nhttp://www.instagram
 .com/djphekt\nhttp://www.facebook.com/djphekt\nhttp://www.soundcloud.com/d
 jphekt\n\nUhrzeit 00:00 Uhr\n– -¤–^](Demontage )[^–¤- –\nDemonta
 ge (Joanna Coleman\, Daphne von Schrader\, David Pridal) play improvised l
 ive techno and experimental electronic music. Utilising a range of synthes
 isers and drum machines\, their sound is both hypnotic and powerful\, cult
 ivating an immersive experience that is both danceable and cerebral\, and 
 their live shows are always an unforgettable experience. (Text written by 
 AI)\n\nVjs:\n•^v^–[ KOLLEKTIV LAMPENSCHIRM]–^v\nSeit die Kunst der 
 Überwachung im April 2010 teil der Urknall-Theorie.\nAm Anfang war das Li
 cht. Analog und Digital.\nVerschworen den Installationen\, 3-Dimensionen u
 nd der Form.\nDer Raum als Spielplatz und der Konsument als Spielball der 
 Lichter.\nDario Stefanek\nStefan Schierhuber\nhttps://lampenschirm.org/\n\
 n(`·.·•Die Lichtmaschine •·.·‘)\nAnalog\, live und direkt arbeit
 et die Maschine im Dunkeln und bringt Licht in den Vordergrund. Mit Dia un
 d Overheadprojektoren aus dem Off erstrahlen Bäume\, Wände und andere Ob
 jekte in anderem Licht und werden zu Tieren oder Gesichtern aus anderen Sp
 ähren. Michael Kreuzhuber aka Kreizi steuert mit Leah Lobensommer das leu
 chtende Geschehen der Nacht.\nhttps://www.facebook.com/lichtmaschine.visua
 ls.9\n\n|I{•——» diascope analog project:on«——•}I|\ndie inter
 pretation des raumes bildet die basis für abstrakte sowie grafische umset
 zung verschiedenster konzepte. großflächige panoramainstallationen sind 
 als raumgreifende ganzheitliche und doch flüchtige lichtbilder\, welche n
 achhaltig in erinnerung bleiben\, zu verstehen.\ndiascope schafft synergie
 n zwischen technologischen zeitspannen und künstlerischen strömungen\, k
 ombiniert stills aus motion graphics mit konzeptionellen\, spontanen\, per
 sönlichen fragmenten und stilformen.\nanalog trifft digital\, der geplant
 en obsoleszenz und dem stetigen fortschritt wird mit konzeptionellem upcyc
 ling\, zusammenführung verschiedenster technologien\, analoger und digita
 ler bildentwicklung ein kreativer und künstlerischer gegenpol gesetzt.\nh
 ttps://www.hamakom.at/thomas-planitzer\n\n!!!---LDST---!!!\nLumiéres du S
 ous-terrain Die Lichtspezialisten der feinen Genüsse! Gemeinsam licht-sze
 nieren sie jegliche Show der Performing Arts. Bartek Kubiak\, * in PL\, st
 udierter Trickfilmer\, spielt Cello. Jan Maria Lukas\, * in ČSSR\, vom Te
 xtil zum Licht\, vom Tischler zum Lampenbauer.\nwww.ldst.at\n\nModeration\
 n''''**Andi Fränzl**'''\nKurzbiografie:\nAndreas Fränzls künstlerische 
 Tätigkeitsfelder sind die Musik und die bildende Kunst Ausgangspunkt war 
 das musische BORG in St.Pölten in dem er seine Initialzündung für seine
  Karriere als Sänger hatte - und auch seine Grafik- und Fotografiekenntni
 sse vertiefen konnte.\nEr besuchte die Universität für angewandte Kunst 
 in Wien\, Meisterklasse für Grafik und Werbung und diplomierte im Jahr 20
 00.\nRund 18 Jahre war er mit dem Vokal Projekt Bauchklang als Leadsänger
  in Europa\, Nordamerika und Indien unterwegs. Neben dem Tourleben baute e
 r den Kunst- und Kulturverein LAMES in St.Pölten mit auf. Es gelang mit d
 em Kollektiv ein 5h großes brachliegendes Grundstück (=Sonnenpark) als N
 atur-Freiraum für Kunst und Kultur zu sichern. Andreas Fränzl ist neben 
 der Tätigkeit als Künstler als Kulturarbeiter\, Kurator und DJ aktiv.\nh
 ttps://kreaktiv.or.at/project/fraenzl-andreas/\n\n'*'* *'*'\n\nKonzept Pro
 gramm Produktion _Baldachin 8.1# Demontage SchloR\nTill Gatermann\, Kira K
 althuber\,
ATTACH;FMTTYPE=image/jpeg:https://schlor.org/wp-content/uploads/2022/10/Ba
 ldachin.jpg
CATEGORIES:Festival,Startseite Termin,TRAP,Zirkus
LOCATION:TRap\, Rappachgasse 26\, Wien\, 1110\, Österreich
X-APPLE-STRUCTURED-LOCATION;VALUE=URI;X-ADDRESS=Rappachgasse 26\, Wien\, 11
 10\, Österreich;X-APPLE-RADIUS=100;X-TITLE=TRap:geo:0,0
END:VEVENT
BEGIN:VTIMEZONE
TZID:Europe/Vienna
X-LIC-LOCATION:Europe/Vienna
BEGIN:DAYLIGHT
DTSTART:20220327T030000
TZOFFSETFROM:+0100
TZOFFSETTO:+0200
TZNAME:CEST
END:DAYLIGHT
END:VTIMEZONE
END:VCALENDAR