BEGIN:VCALENDAR
VERSION:2.0
PRODID:-//wp-events-plugin.com//7.2.3.1//EN
TZID:Europe/Vienna
X-WR-TIMEZONE:Europe/Vienna
BEGIN:VEVENT
UID:43@schlor.org
DTSTART;TZID=Europe/Vienna:20210725T110000
DTEND;TZID=Europe/Vienna:20210725T140000
DTSTAMP:20210630T093940Z
URL:https://schlor.org/events/2021-open-schlor-juli/
SUMMARY:Open SchloR – Baustellenführung
DESCRIPTION:-&gt\; Ab 11h Führungen zu jeder vollen Stunde\n\nWie funktion
 iert das habiTAT bzw. Mietshäuser Syndikat?\nWer oder was ist SchloR?\nWa
 s passiert in der Rappachgasse?\n\nAm Sonntag\, 25. Juli\, gibt es von 11h
  bis 14h ein OpenSchloR am Gelände unseres geplanten Werkstätten-\, Wohn
 - und Kulturzentrums in der Rappachgasse in Wien Simmering. Neben Führung
  über das Areal in der Rappachgasse ist auch für Getränke und Snacks ge
 sorgt.\n\nDas Projekt „Schöner leben“ will frei nach dem Motto „Leb
 en und Arbeiten unter einem Dach“ auf dem rund 3.000m2 großen Grundstü
 ck in der Rappachgasse Handwerk und Kultur nach Simmering bringen. Nach de
 m Ankauf im Juni 2019 wird das Objekt Schritt für Schritt zu einem gemein
 wohlorientierten Werkstätten- und Kulturzentrum mit rund 1.400m2 Nutzflä
 che umgebaut. So werden dort in klimafreundlicher wie auch ökologischer B
 auweise u.a. Gastroküche\, Seminarbereich\, Ateliers\, Proberäume und We
 rkstätten zur niederschwelligen Nutzung auch für die Nachbarschaft entst
 ehen. Außerdem entsteht in unserer Traingshalle TRAP ein Zirkuszentrum.\n
 \nUmgesetzt wird unser Projekt in Kooperation mit der Architektin Gabu Hei
 ndl.\n\nNähere Informationen: schlor.org\n\nWas? Open Schlor\nWo? Rappach
 gasse 26\, 1110 Wien\nWann? Sonntag\, 25. Juli\, ab 11h\nProgramm? Führun
 gen zu jeder vollen Stunde (11h\, 12h\, 13h)\n\nCorona-Disclaimer: Bitte d
 ie 3G Regel beachten und getestet\, geimpft oder genesen kommen!
ATTACH;FMTTYPE=image/jpeg:https://schlor.org/wp-content/uploads/2021/06/Sc
 hloR_OpenSchloR-Baustellenrundgang.jpg
CATEGORIES:habiTAT,Rundgang,Startseite Termin
LOCATION:Rappachgasse 26\, 1110 Wien\, \, 
X-APPLE-STRUCTURED-LOCATION;VALUE=URI;X-ADDRESS=\, ;X-APPLE-RADIUS=100;X-TI
 TLE=Rappachgasse 26\, 1110 Wien:geo:0,0
END:VEVENT
BEGIN:VTIMEZONE
TZID:Europe/Vienna
X-LIC-LOCATION:Europe/Vienna
BEGIN:DAYLIGHT
DTSTART:20210328T030000
TZOFFSETFROM:+0100
TZOFFSETTO:+0200
TZNAME:CEST
END:DAYLIGHT
END:VTIMEZONE
END:VCALENDAR