BEGIN:VCALENDAR
VERSION:2.0
PRODID:-//wp-events-plugin.com//7.2.3.1//EN
TZID:Europe/Vienna
X-WR-TIMEZONE:Europe/Vienna
BEGIN:VEVENT
UID:5@schlor.org
DTSTART;TZID=Europe/Vienna:20190731T203000
DTEND;TZID=Europe/Vienna:20190731T230000
DTSTAMP:20190727T112849Z
URL:https://schlor.org/events/2019-07-schlorina-sommerkino/
SUMMARY:Schlorina Sommerkino: Zombiealarm in Simmering
DESCRIPTION:Heite grob ma Tote aus. Passend zu Simmering erwachen bei unser
 em ersten OpenAir Screening die Toten zum Leben. Und wie immer\, wenn es u
 m Zombies geht\, geht es auch um Politik. Auch wenn die Untoten diesmal ei
 nfach nicht sterben wollen.\n\nEinlass: 20 Uhr\; Filmbeginn: 21 Uhr. Eintr
 itt freie Spende. Für Getränke und Snacks ist gesorgt. Bring your Friend
 s! Bei Schlechtwetter findet das Screening Indoor statt. Infos: www.schlor
 .org
CATEGORIES:Film,Startseite Termin
LOCATION:Rappachgasse 26\, 1110 Wien\, \, 
X-APPLE-STRUCTURED-LOCATION;VALUE=URI;X-ADDRESS=\, ;X-APPLE-RADIUS=100;X-TI
 TLE=Rappachgasse 26\, 1110 Wien:geo:0,0
END:VEVENT
BEGIN:VTIMEZONE
TZID:Europe/Vienna
X-LIC-LOCATION:Europe/Vienna
BEGIN:DAYLIGHT
DTSTART:20190331T030000
TZOFFSETFROM:+0100
TZOFFSETTO:+0200
TZNAME:CEST
END:DAYLIGHT
END:VTIMEZONE
END:VCALENDAR