BEGIN:VCALENDAR
VERSION:2.0
PRODID:-//wp-events-plugin.com//7.2.3.1//EN
TZID:Europe/Vienna
X-WR-TIMEZONE:Europe/Vienna
BEGIN:VEVENT
UID:209@schlor.org
DTSTART;TZID=Europe/Vienna:20260410T193000
DTEND;TZID=Europe/Vienna:20260410T234500
DTSTAMP:20260309T195104Z
URL:https://schlor.org/events/15-years-seewinkel-noise-factory/
SUMMARY:15 Years Seewinkel Noise Factory
DESCRIPTION:Day One of the 15 Years Seewinkel Noise Factory\nInsta: @seewin
 kelnoisefactory\n\n
CATEGORIES:CRAP,Externe Veranstaltung,Freie Spende,Konzert
LOCATION:Rappachgasse 26\, 1110 Wien\, \, 
X-APPLE-STRUCTURED-LOCATION;VALUE=URI;X-ADDRESS=\, ;X-APPLE-RADIUS=100;X-TI
 TLE=Rappachgasse 26\, 1110 Wien:geo:0,0
END:VEVENT
BEGIN:VTIMEZONE
TZID:Europe/Vienna
X-LIC-LOCATION:Europe/Vienna
BEGIN:DAYLIGHT
DTSTART:20260329T030000
TZOFFSETFROM:+0100
TZOFFSETTO:+0200
TZNAME:CEST
END:DAYLIGHT
END:VTIMEZONE
END:VCALENDAR