BEGIN:VCALENDAR
VERSION:2.0
PRODID:-//wp-events-plugin.com//7.2.3.1//EN
TZID:Europe/Vienna
X-WR-TIMEZONE:Europe/Vienna
BEGIN:VEVENT
UID:217@schlor.org
DTSTART;TZID=Europe/Vienna:20260531T183000
DTEND;TZID=Europe/Vienna:20260531T213000
DTSTAMP:20260422T054503Z
URL:https://schlor.org/en/events/wohnzimmerkonzert-chor-private-practice/
SUMMARY:Wohnzimmerkonzert | Chor Private Practice
DESCRIPTION:\n\nWohnzimmerkonzert vom Chor Private Practice\n\n31. Mai um 1
 8:30\n\nBitte Sitzplatz reservieren unter: https://www.eventbrite.com/e/wo
 hnzimmerkonzert-tickets-1987806170767
CATEGORIES:Freie Spende,Konzert
END:VEVENT
BEGIN:VTIMEZONE
TZID:Europe/Vienna
X-LIC-LOCATION:Europe/Vienna
BEGIN:DAYLIGHT
DTSTART:20260329T030000
TZOFFSETFROM:+0100
TZOFFSETTO:+0200
TZNAME:CEST
END:DAYLIGHT
END:VTIMEZONE
END:VCALENDAR