BEGIN:VCALENDAR
VERSION:2.0
PRODID:-//wp-events-plugin.com//7.2.3.1//EN
TZID:Europe/Vienna
X-WR-TIMEZONE:Europe/Vienna
BEGIN:VEVENT
UID:1@schlor.org
DTSTART;TZID=Europe/Vienna:20190625T180000
DTEND;TZID=Europe/Vienna:20190625T200000
DTSTAMP:20190625T160114Z
URL:https://schlor.org/en/events/trap-organisationstreffen/
SUMMARY:TRAP Organisationstreffen
DESCRIPTION:Die Trap-Orga-Gruppe für die Trainingshalle trifft sich wieder
  am Dienstag\, den 25.06.2019 um 19:00 Uhr.\n\nThematisch greifen wir die 
 Fortschritte der letzten Treffen auf\, das heißt im speziellen:\n\n 	Nutz
 ungskonzept für die Halle (wer will wann wie zu welchem Preis trainieren/
 nutzen/whatever)\n 	Aufhängepunkte (Aerial\, Counter-Weight\, Licht\, etc
 )\n 	Abtrennungen (Molton Vorhänge vs Abtrennungswand-System)\n 	Stromver
 sorgung der Halle\n\nIm Idealfall schaffen wirs\, dass die Umfragen für d
 ie zukünftige Nutzung bereits ausgewertet vorliegen und wir Nägel mit K
 öpfen machen können.
ATTACH;FMTTYPE=image/jpeg:https://schlor.org/wp-content/uploads/2019/06/12
 0190_01_01.jpeg
CATEGORIES:Startseite Termin,TRAP
LOCATION:Rappachgasse 26\, 1110 Wien\, \, 
X-APPLE-STRUCTURED-LOCATION;VALUE=URI;X-ADDRESS=\, ;X-APPLE-RADIUS=100;X-TI
 TLE=Rappachgasse 26\, 1110 Wien:geo:0,0
END:VEVENT
BEGIN:VTIMEZONE
TZID:Europe/Vienna
X-LIC-LOCATION:Europe/Vienna
BEGIN:DAYLIGHT
DTSTART:20190331T030000
TZOFFSETFROM:+0100
TZOFFSETTO:+0200
TZNAME:CEST
END:DAYLIGHT
END:VTIMEZONE
END:VCALENDAR