BEGIN:VCALENDAR
VERSION:2.0
PRODID:-//wp-events-plugin.com//7.2.3.1//EN
TZID:Europe/Vienna
X-WR-TIMEZONE:Europe/Vienna
BEGIN:VEVENT
UID:4@schlor.org
DTSTART;TZID=Europe/Vienna:20190715T190000
DTEND;TZID=Europe/Vienna:20190715T210000
DTSTAMP:20190715T174352Z
URL:https://schlor.org/en/events/trap-orag-treffen-iii/
SUMMARY:TRap Orga Treffen III
DESCRIPTION:Das nächste Treffen zur Planung und Umsetzung unseres Zirkus- 
 und Trainingshallenkonzepts steht an.\nIm Mittelpunkt stehen derzeit die K
 onzept- und die Finanzierungsvorbereitungen.\n\nDas Treffen ist ein geschl
 ossenes Treffen von TRap (Trainingshalle Rappachgasse).\n\nSo du dich einb
 ringen und dazustoßen möchtest\, wende dich bitte an trap@schlor.org!
ATTACH;FMTTYPE=image/jpeg:https://schlor.org/wp-content/uploads/2019/07/TR
 ap.jpg
CATEGORIES:Startseite Termin,TRAP
LOCATION:TRap\, Rappachgasse 26\, Wien\, 1110\, Austria
X-APPLE-STRUCTURED-LOCATION;VALUE=URI;X-ADDRESS=Rappachgasse 26\, Wien\, 11
 10\, Austria;X-APPLE-RADIUS=100;X-TITLE=TRap:geo:0,0
END:VEVENT
BEGIN:VTIMEZONE
TZID:Europe/Vienna
X-LIC-LOCATION:Europe/Vienna
BEGIN:DAYLIGHT
DTSTART:20190331T030000
TZOFFSETFROM:+0100
TZOFFSETTO:+0200
TZNAME:CEST
END:DAYLIGHT
END:VTIMEZONE
END:VCALENDAR