BEGIN:VCALENDAR
VERSION:2.0
PRODID:-//wp-events-plugin.com//7.2.3.1//EN
TZID:Europe/Vienna
X-WR-TIMEZONE:Europe/Vienna
BEGIN:VEVENT
UID:155@schlor.org
DTSTART;TZID=Europe/Vienna:20240724T180000
DTEND;TZID=Europe/Vienna:20240724T210000
DTSTAMP:20240722T141834Z
URL:https://schlor.org/en/events/tintenklecks-offenes-kreativatelier/
SUMMARY:TINtenklecks - offenes Kreativatelier
DESCRIPTION:***English version below***\n\nHallo!\n\nTINtenklecks (offenes 
 queeres Kreativatelier) findet im Sommer am 24.Juli und dann nochmal am 14
 . August bei schloR im Seminarraum im Erdgeschoss statt\, jeweils von 18:0
 0 - 21:00. Ankommen ist ab 17:50 möglich. Wir beginnen mit einer gemeinsa
 men Übung und Gestaltungsanregung (wenn Du Lust darauf hast)\, dann gibt 
 es viel Zeit zum Gestalten mit unterschiedlichsten Materialien\, am Ende g
 ibt's die Möglichkeit für einen gemeinsamen Abschluss. Flyer im Anhang!\
 n\nAnmeldung: leno@mur.at Betreff: TINtenklecks - bitte schreib mir auch w
 enn Du besondere Bedürfnisse/Fragen hast. oder via SMS: +43 (0) 677 61926
 311\nKosten: 30 € Unkostenbeitrag (melde Dich\, wenn Du Dir das nicht le
 isten kannst).\nhttps://lenomgt.tumblr.com/TINtenklecks\n\nKünstlerische 
 Vorkenntnisse sind wie immer nicht notwendig.\n\nIch freu mich auf ein mö
 gliches (Wieder-)sehen!\nLeno Gasser\nhttps://lenomgt.tumblr.com/\n\n*****
 ENGLISH*****\n\nHello!\nTINtenklecks (open queer creative studio) will tak
 e place next week on July 24th and then again on August 14th at schloR in 
 the seminar room on the first floor\, both from 18:00 - 21:00. Arrival is 
 possible from 17:50. We will start with a joint exercise and creative insp
 iration (if you feel like it)\, then there will be plenty of time to creat
 e with a wide variety of materials. At the end there will be the opportuni
 ty for common closure/ finishing together. Flyer attached!\n\nRegistration
 : leno@mur.at Subject: TINtenklecks - please also write to me if you have 
 special needs/questions. or via SMS: +43 (0) 677 61926311\nCosts: 30 € c
 ontribution towards expenses (contact me if you can't afford it).\nhttps:/
 /lenomgt.tumblr.com/TINtenklecks\n\nAs always\, previous artistic experien
 ce is not necessary for any of the events.\n\nLooking forward to possibly 
 seeing you (again)!\nBest\, Leno!\n\n&nbsp\;\n\n
CATEGORIES:Ausstellung,CRAP,Externe
 Veranstaltung,Mitmachen,Werkstatt,Workshop
LOCATION:Rappachgasse 26\, 1110 Wien\, \, 
X-APPLE-STRUCTURED-LOCATION;VALUE=URI;X-ADDRESS=\, ;X-APPLE-RADIUS=100;X-TI
 TLE=Rappachgasse 26\, 1110 Wien:geo:0,0
END:VEVENT
BEGIN:VTIMEZONE
TZID:Europe/Vienna
X-LIC-LOCATION:Europe/Vienna
BEGIN:DAYLIGHT
DTSTART:20240331T030000
TZOFFSETFROM:+0100
TZOFFSETTO:+0200
TZNAME:CEST
END:DAYLIGHT
END:VTIMEZONE
END:VCALENDAR