BEGIN:VCALENDAR
VERSION:2.0
PRODID:-//wp-events-plugin.com//7.2.3.1//EN
TZID:Europe/Vienna
X-WR-TIMEZONE:Europe/Vienna
BEGIN:VEVENT
UID:210@schlor.org
DTSTART;TZID=Europe/Vienna:20260401T183000
DTEND;TZID=Europe/Vienna:20260401T213000
DTSTAMP:20260309T195442Z
URL:https://schlor.org/en/events/tinte-kreative-selbsterfahrung/
SUMMARY:TINte Kreative Selbsterfahrung
DESCRIPTION:\n\n***English below***\n\nEMPOWERNDES GRUPPENANGEBOT ZU DEN TH
 EMEN GESCHLECHTSIDENTITÄT UND TRANSITION\n\nDie TINte ist ein Angebot fü
 r erwachsene Menschen\, die Lust auf Selbsterfahrung und Austausch mit and
 eren zum Thema Geschlechtsidentität und Transition haben und denen kreati
 ver Ausdruck Spaß macht. TINte ist ein mal-und gestaltungstherapeutisches
  Gruppenangebot. Keine künstlerischen Vorkenntnisse notwendig!\n\nDie TER
 MINE für die nächste Gruppe stehen fest: Frühling 2026!\n\n\n1.4.\, 15.
 4.\, 27.4.\, 11.5.\, 20.5.\, 3.6.\, 17.6.\, 29.6.\, 8.7.\, 15.7.(oder 22.7
 .!) 2026 jeweils 18:30 - 21:30!\n\nKosten: sliding scale 30 - 60 - 90 €
  pro abend inkl. Material (oder irgendwo dazwischen -Anleitung zur Selbste
 inschätzung erfolgt bei Anmeldung).\n\nGruppenbegleitung: Leno Gasser (Ku
 nsttherpaie\, Sozialarbeit\, Traumapädagogik) und Ra Bettel (Grafik\, Kun
 sttherapie)\n\nVoranmeldung und Information:\nmgt.gasser@gmail.com\n\nTINt
 e steht für trans*\, inter*\, non-binary _ \, Transition und Empowerment
 .\n\n\n***************English**********************\n\nCreative Empowermen
 t group on the topic of transition.\n\nAre you interested in self-awarenes
 s on the topic of gender identity? Do you long for exchange with others on
  the topic of transition and also want to be creative? Then TINte might be
  a space for you. No previous artistic knowledge is necessary!\n\nThe Date
 s for the next group are out: spring 2026!\n\n1.4.\, 15.4.\, 27.4.\, 11.5.
 \, 20.5.\, 3.6.\, 17.6.\, 29.6.\, 8.7.\, 15.7. 2026 always 18:30 - 21:30!\
 n\nCosts: sliding scale 30 - 60 - 90 € per evening incl. Material (or s
 omewhere in between - we send guidance for self-assessment when you regist
 er).\n\nHosts: Leno Gasser (social worker\, art therapist) und Ra Bettel (
 art therapist)\n\nRegistration and Information:\nmgt.gasser@gmail.com\n\nT
 INTE means „ink“ in German and stands for trans\, inter\, non-binary 
 _\, Transition and Empowerment.
CATEGORIES:CRAP,Kreativ,Mitmachen,Workshop
END:VEVENT
BEGIN:VTIMEZONE
TZID:Europe/Vienna
X-LIC-LOCATION:Europe/Vienna
BEGIN:DAYLIGHT
DTSTART:20260329T030000
TZOFFSETFROM:+0100
TZOFFSETTO:+0200
TZNAME:CEST
END:DAYLIGHT
END:VTIMEZONE
END:VCALENDAR