BEGIN:VCALENDAR
VERSION:2.0
PRODID:-//wp-events-plugin.com//7.2.3.1//EN
TZID:Europe/Vienna
X-WR-TIMEZONE:Europe/Vienna
BEGIN:VEVENT
UID:153@schlor.org
DTSTART;TZID=Europe/Vienna:20240228T190000
DTEND;TZID=Europe/Vienna:20240228T230000
DTSTAMP:20240224T154031Z
URL:https://schlor.org/en/events/schlor-beisl-4/
SUMMARY:SchloR Beisl
DESCRIPTION:
CATEGORIES:Startseite Termin
LOCATION:SchloR\, Rappachgasse 26\, Wien\, Wien\, 1110\, Wien\, Austria
X-APPLE-STRUCTURED-LOCATION;VALUE=URI;X-ADDRESS=Rappachgasse 26\, Wien\, Wi
 en\, 1110\, Wien\, Austria;X-APPLE-RADIUS=100;X-TITLE=SchloR:geo:0,0
END:VEVENT
BEGIN:VTIMEZONE
TZID:Europe/Vienna
X-LIC-LOCATION:Europe/Vienna
BEGIN:STANDARD
DTSTART:20231029T020000
TZOFFSETFROM:+0200
TZOFFSETTO:+0100
TZNAME:CET
END:STANDARD
END:VTIMEZONE
END:VCALENDAR