BEGIN:VCALENDAR
VERSION:2.0
PRODID:-//wp-events-plugin.com//7.2.3.1//EN
TZID:Europe/Vienna
X-WR-TIMEZONE:Europe/Vienna
BEGIN:VEVENT
UID:74@schlor.org
DTSTART;TZID=Europe/Vienna:20221026T190000
DTEND;TZID=Europe/Vienna:20221026T235500
DTSTAMP:20221025T082616Z
URL:https://schlor.org/en/events/schlor-beisl-2/
SUMMARY:SchloR-Beisl mit Rundgang am Nationalfeiertag
DESCRIPTION:Was? SchloR-Beisl mit Rundgang am Nationalfeiertag\nWann? 26. O
 ktober\, 19 Uhr\nWo? CRAP\, Rappachgasse 26\, 1110 Wien\n\nDas Beisl mit R
 undgang am Nationalfeiertag\n\nUm 17 Uhr wird es einen ausführlichen Rund
 gang geben\, ab 18 Uhr stehen wir für offene Fragen zur Verfügung und um
  19 Uhr eröffnet die Kinderliedermacherin Kiri Rakete das SchloR-Beisl mi
 t einem ganz speziellen Song. \n\nEs gibt wie immer Getränke\, etwas zu e
 ssen und eine Baustelle in der Rappachgasse 26 zu besichtigen :)\n\nJeden 
 2. und 4. Mittwoch gibts bei uns in SchLoRida ab 19 Uhr ein nettes BeisL. 
 Zur Wochenmitte und natürlich mit fixen Ablaufdatum um Mitternacht. Für 
 bestmögliche Kompatibilität mit unserer aller mehr oder minder erstreben
 swerten Lohnarbeits-Performance.\n\nOpen for all genders! Unsere Räumlich
 keiten sind barrierefrei zugänglich!\n\nNehmt eure Freund_innen mit! Wir 
 freuen uns auf euch!\n\nNächster Termin: 9. November
ATTACH;FMTTYPE=image/jpeg:https://schlor.org/wp-content/uploads/2022/10/Sc
 hlor-Beisl-2022-Oktober-2.jpg
CATEGORIES:Café/Beisl,CRAP,Freier Eintritt,Startseite Termin
LOCATION:CRAP\, Rappachgasse 26\, Wien\, Wien\, 1110\, Austria
X-APPLE-STRUCTURED-LOCATION;VALUE=URI;X-ADDRESS=Rappachgasse 26\, Wien\, Wi
 en\, 1110\, Austria;X-APPLE-RADIUS=100;X-TITLE=CRAP:geo:0,0
END:VEVENT
BEGIN:VTIMEZONE
TZID:Europe/Vienna
X-LIC-LOCATION:Europe/Vienna
BEGIN:DAYLIGHT
DTSTART:20220327T030000
TZOFFSETFROM:+0100
TZOFFSETTO:+0200
TZNAME:CEST
END:DAYLIGHT
END:VTIMEZONE
END:VCALENDAR