BEGIN:VCALENDAR
VERSION:2.0
PRODID:-//wp-events-plugin.com//7.2.3.1//EN
TZID:Europe/Vienna
X-WR-TIMEZONE:Europe/Vienna
BEGIN:VEVENT
UID:167@schlor.org
DTSTART;TZID=Europe/Vienna:20250112T140000
DTEND;TZID=Europe/Vienna:20250112T180000
DTSTAMP:20250108T082206Z
URL:https://schlor.org/en/events/rundgang-und-konzert/
SUMMARY:Rundgang und Konzert
DESCRIPTION:Für alle Direktkreditgeber*innen und Interessierten\, die sich
  über das Projekt SchloR informieren oder sich den Bauforschritt der letz
 ten Jahre anschauen möchten!\n\nAm 12.1. hast du von 14:00 bis 18:00 die 
 Möglichkeit\, alle deine Fragen zu stellen. Direktkredit-Infostand\, Tee 
 und geführte Rundgänge um 14:00 und 15:00.\n\n17:30 Konzert und Heimspie
 l der Band VENT!L aus unserem Proberaum\n\n&nbsp\;\n\n
CATEGORIES:Freie Spende,Freier Eintritt,Konzert,Proberaum,Rundgang
END:VEVENT
BEGIN:VTIMEZONE
TZID:Europe/Vienna
X-LIC-LOCATION:Europe/Vienna
BEGIN:STANDARD
DTSTART:20241027T020000
TZOFFSETFROM:+0200
TZOFFSETTO:+0100
TZNAME:CET
END:STANDARD
END:VTIMEZONE
END:VCALENDAR