BEGIN:VCALENDAR
VERSION:2.0
PRODID:-//wp-events-plugin.com//7.2.3.1//EN
TZID:Europe/Vienna
X-WR-TIMEZONE:Europe/Vienna
BEGIN:VEVENT
UID:154@schlor.org
DTSTART;TZID=Europe/Vienna;VALUE=DATE:20240531
DTEND;TZID=Europe/Vienna;VALUE=DATE:20240602
DTSTAMP:20240530T104142Z
URL:https://schlor.org/en/events/queerzilla/
SUMMARY:QUEERZILLA
DESCRIPTION:*** English below ***\nQueerzilla ist ein queer-feministisches 
 Festival\, das am 31.05. &amp\; 01.06. 2024 in Wien\, Simmering\, auf dem 
 Gelände von SchloR (1110 Wien\, Rappachgasse 26 — schlor.org) stattfind
 en wird. Eingeladen sind TINAFL* Personen (trans\, inter\, nicht binäre\,
  agender Personen\, Frauen und Lesben) und Queers.\nVon Freitag Nachmittag
  an\, wollen wir einen Raum schaffen\, in dem wir uns vernetzen\, voneinan
 der lernen\, uns austauschen\, feiern und eine gute Zeit haben können. \
 nFreitag Nachmittag werden die ersten Workshops stattfinden\, abends dann 
 unter anderem ein Film-Screening\, Auflegerei und ein Konzert. Am Samstag 
 geht es nachmittags weiter mit Workshops\, Vernetzungstreffen\, Solitattoo
 s und vielem mehr\, danach Konzerten und Auflegerei. Es wird untertags fü
 r vegane Verpflegung gesorgt sein\, sodass man den ganzen Tag am Festival 
 bleiben kann. \n\nDas gesamte Programm und weitere Info’s findet ihr au
 f: www.queerzilla.org  oder auf unserem Instagram-Kanal @queerzilla_vien
 na.\nFür manche Workshops wird eine Voranmeldung notwendig sein\, dies wi
 rd bei den jeweiligen Workshops vermerkt sein. Für Kinder wird es eine Be
 treuung geben.\nDas Gelände ist  leider aktuell nicht mit einem Rollstuh
 l oder einer Gehhilfe  zugänglich\, da am Vorplatz momentan nur Kies lie
 gt. Das tut uns sehr leid und es wird sich hoffentlich bald ändern. Bezü
 glich anderer Barrieren kann gerne Kontakt mit uns aufgenommen werden und 
 es folgen noch weitere Infos.\nWir freuen uns auf ein schönes gemeinsames
  Wochenende mit euch! \nEure Queerzillas     \n\n*******************
 *****************\n\n\nQueerzilla is a queer-feminist festival that will t
 ake place on 31.05. &amp\; 01.06. 2024 in Vienna\, Simmering\, on the grou
 nds of SchloR (1110 Vienna\, Rappachgasse 26 – schlor.org). We invite al
 l TINAFL* people (trans\, inter\, non-binary\, agender people\, women and 
 lesbians) and queers.\nStarting on Friday afternoon\, we want to create a 
 space where we can network\, learn from each other\, share\, celebrate and
  have a good time. \nThe first workshops will take place on Friday aftern
 oon\, followed by a film screening\, DJing and a concert in the evening. O
 n Saturday afternoon there will be workshops\, networking meetings\, soli 
 tattoos\, info tables and much more\, followed by concerts and dj-sets. Ve
 gan food will be provided during the day so that you can stay at the festi
 val all day. \n\nYou can find the entire program and further information 
 at: www.queerzilla.org or on our Instagram channel @queerzilla_vienna.\n
 Pre-registration will be required for some workshops\, this will be noted 
 at the respective workshops. There will be supervision for children.\nUnfo
 rtunately\, SchloR is currently not wheelchair accessible. We are very sor
 ry about this and hopefully it will change soon. Please feel free to conta
 ct us regarding other barriers. Further information will also follow.\n\nW
 e are looking forward to a great weekend with you! \nYour Queerzillas\n
ATTACH;FMTTYPE=image/jpeg:https://schlor.org/wp-content/uploads/2024/05/qu
 eerzilla.jpeg
CATEGORIES:Externe Veranstaltung,Festival,Film,Freie
 Spende,Konzert,Mitmachen,Party,Startseite
 Termin,Vortrag/Diskussion,Workshop
LOCATION:SchloR\, Rappachgasse 26\, Wien\, Austria
X-APPLE-STRUCTURED-LOCATION;VALUE=URI;X-ADDRESS=Rappachgasse 26\, Wien\, Au
 stria;X-APPLE-RADIUS=100;X-TITLE=SchloR:geo:0,0
END:VEVENT
BEGIN:VTIMEZONE
TZID:Europe/Vienna
X-LIC-LOCATION:Europe/Vienna
BEGIN:DAYLIGHT
DTSTART:20240331T030000
TZOFFSETFROM:+0100
TZOFFSETTO:+0200
TZNAME:CEST
END:DAYLIGHT
END:VTIMEZONE
END:VCALENDAR