BEGIN:VCALENDAR
VERSION:2.0
PRODID:-//wp-events-plugin.com//7.2.3.1//EN
TZID:Europe/Vienna
X-WR-TIMEZONE:Europe/Vienna
BEGIN:VEVENT
UID:145@schlor.org
DTSTART;TZID=Europe/Vienna:20230614T180000
DTEND;TZID=Europe/Vienna:20230614T234500
DTSTAMP:20230608T074622Z
URL:https://schlor.org/en/events/queerzilla-beisl/
SUMMARY:Queerzilla Beisl
DESCRIPTION:\n\n\n\n\n\n\n\n\n\n\nCandy Licious lebt es vor - offen\, toler
 ant\, bunt und mutig. Diese Ansätze bringt sie auch zu ihren Lesungen mit
 \, bei denen es darum geht\, dass "anders sein" normal ist und wir alle un
 terschiedlich sind. Mit Büchern wie "Schwanenteich" oder "die kehrverte W
 elt des Filip Fisch" nimmt sie junge und alte Menschen mit auf eine Reise\
 , wo Frösche Ballet tanzen und Filip Fisch den Mond retten möchte. Die B
 ücher sind für Menschen ab ca. 4  bis 100 Jahre geeignet.\nUnd natürli
 ch nimmt sie auch wieder Elke Licious - ihr Einhorn mit\, welches ihr bei 
 jeder Lesung zur Seite steht.\n\n\n\n\n\n\n\n\n\n\n\n\n\n\n\n\n\n\n\n\n\n\
 n\n\nschmeckt nach spüli setzt sich lustig\, traurig\, wütend\, albern u
 nd zärtlich mit sich selbst\, gesellschaftlichen normen und unterdrückun
 g\, trans* sein und queerness auseinander. mal akustisch mit klavier\, akk
 ordeon oder gitarre\, mal verstärkt mit verstimmter e-gitarre.\nim genre 
 schwankt schmeckt nach spüli zwischen indie\, punk\, rap und kabarett-lie
 dergschreibsel. \n\n\n\n\n\n\n\n\n\n\n\n
ATTACH;FMTTYPE=image/jpeg:https://schlor.org/wp-content/uploads/2023/05/si
 gnal-2023-05-26-143931_002-1.jpeg
CATEGORIES:Café/Beisl,Externe Veranstaltung,Konzert
LOCATION:Rappachgasse 26\, 1110 Wien\, \, 
X-APPLE-STRUCTURED-LOCATION;VALUE=URI;X-ADDRESS=\, ;X-APPLE-RADIUS=100;X-TI
 TLE=Rappachgasse 26\, 1110 Wien:geo:0,0
END:VEVENT
BEGIN:VTIMEZONE
TZID:Europe/Vienna
X-LIC-LOCATION:Europe/Vienna
BEGIN:DAYLIGHT
DTSTART:20230326T030000
TZOFFSETFROM:+0100
TZOFFSETTO:+0200
TZNAME:CEST
END:DAYLIGHT
END:VTIMEZONE
END:VCALENDAR