BEGIN:VCALENDAR
VERSION:2.0
PRODID:-//wp-events-plugin.com//7.2.3.1//EN
TZID:Europe/Vienna
X-WR-TIMEZONE:Europe/Vienna
BEGIN:VEVENT
UID:63@schlor.org
DTSTART;TZID=Europe/Vienna:20220706T160000
DTEND;TZID=Europe/Vienna:20220706T190000
DTSTAMP:20220706T095238Z
URL:https://schlor.org/en/events/offener-fahrradwerkstatt/
SUMMARY:Offene Fahrradwerkstatt
DESCRIPTION:Was? Offene Fahrradwerkstatt\nWann? 6.7.\, 16:00 Uhr\nWo? CRAP\
 , Rappachgasse 26\, 1110\nHeute Mittwoch 06.07.22 öffnet die CRAP Werksta
 tt ihre Pforten. Ab 16:00 gibts offene Fahrradwerkstatt. Bring dein Fahrra
 d und wir reparieren es gemeinsam. Du kannst auch gern einfach vorbeikomme
 n\, um die Werkstatt kennen zu lernen und mit uns zu plaudern. Wir freuen 
 uns.\n\nAlles Liebe von der CRAP Werkstatt Crew
ATTACH;FMTTYPE=image/jpeg:https://schlor.org/wp-content/uploads/2022/07/CR
 AP-Offene-Fahrradwerkstatt.jpg
CATEGORIES:CRAP,Freier Eintritt,Mitmachen,Startseite
 Termin,Werkstatt,Workshop
LOCATION:CRAP\, Rappachgasse 26\, Wien\, Wien\, 1110\, Austria
X-APPLE-STRUCTURED-LOCATION;VALUE=URI;X-ADDRESS=Rappachgasse 26\, Wien\, Wi
 en\, 1110\, Austria;X-APPLE-RADIUS=100;X-TITLE=CRAP:geo:0,0
END:VEVENT
BEGIN:VTIMEZONE
TZID:Europe/Vienna
X-LIC-LOCATION:Europe/Vienna
BEGIN:DAYLIGHT
DTSTART:20220327T030000
TZOFFSETFROM:+0100
TZOFFSETTO:+0200
TZNAME:CEST
END:DAYLIGHT
END:VTIMEZONE
END:VCALENDAR