BEGIN:VCALENDAR
VERSION:2.0
PRODID:-//wp-events-plugin.com//7.2.3.1//EN
TZID:Europe/Vienna
X-WR-TIMEZONE:Europe/Vienna
BEGIN:VEVENT
UID:3@schlor.org
DTSTART;TZID=Europe/Vienna:20191012T210000
DTEND;TZID=Europe/Vienna:20191012T233000
DTSTAMP:20190930T121720Z
URL:https://schlor.org/en/events/habitat-soli-party/
SUMMARY:habiTAT Soli Party
DESCRIPTION:Save the Date!\n\nUnser Dach\, das habiTAT\, lädt zur näxten 
 Soliparty in die Stadtwerkstatt nach Linz ein. Und wir sind dabei!\n\n═
 ═══╣5 Jahre habiTAT • Solisause!╠════\n\nNachdem 5 Jah
 re ins Land gezogen sind ist das HabiTat um einiges gewachsen! Neben dem G
 ründer*innen Hausprojekt Willy*Fred ist der träger*innen Verein um 4 Pro
 jekte und vielen weiteren Projektinitiativen gewachsen und das gehört gef
 eiert! Für ein Leben ohne Immobilien Wahnsinn und für solidarische Selbs
 torganisation! Let’s party with us!\n\n════╣Line-Up╠══
 ══\n• Akne Kid Joe\n• Jana & Die Piraten\n• DJ Kaypro\n• DJän
 e Ronit Muadib\nMore to come...\n\n════╣Specials╠════\
 n• Glücksrad\n• Beautysalon\n• Infostände\n...\n\nFB-Event
CATEGORIES:Externe Veranstaltung,habiTAT,Startseite Termin
LOCATION:Stadtwerkstatt\, Friedhofstraße 6\, Linz\, 4040\, Austria
X-APPLE-STRUCTURED-LOCATION;VALUE=URI;X-ADDRESS=Friedhofstraße 6\, Linz\, 
 4040\, Austria;X-APPLE-RADIUS=100;X-TITLE=Stadtwerkstatt:geo:0,0
END:VEVENT
BEGIN:VTIMEZONE
TZID:Europe/Vienna
X-LIC-LOCATION:Europe/Vienna
BEGIN:DAYLIGHT
DTSTART:20190331T030000
TZOFFSETFROM:+0100
TZOFFSETTO:+0200
TZNAME:CEST
END:DAYLIGHT
END:VTIMEZONE
END:VCALENDAR