BEGIN:VCALENDAR
VERSION:2.0
PRODID:-//wp-events-plugin.com//7.2.3.1//EN
TZID:Europe/Vienna
X-WR-TIMEZONE:Europe/Vienna
BEGIN:VEVENT
UID:168@schlor.org
DTSTART;TZID=Europe/Vienna:20250212T190000
DTEND;TZID=Europe/Vienna:20250212T234500
DTSTAMP:20250124T082440Z
URL:https://schlor.org/en/events/habitat-beisl/
SUMMARY:HabiTAT Beisl
DESCRIPTION:\n\nThe Inputs in this event will be in German\, asking about H
 abiTAT and the projects will also be possible in English.\n\nEin Beisl mit
  kurzen Inputs rund ums HabiTAT\, Diskussion und auch Platz zum freien Aus
 tausch und gemütlichem Plaudern. Du hast schon öfter vom HabiTAT gehört
  und willst gerne mal wissen was eigentlich dahintersteckt und wie das fun
 ktioniert? Oder du kennst dich schon aus und willst gerne mehr HabiTAT Pro
 jekte kennenlernen? An einem Infotisch ganz spezifische oder allgemeine Fr
 agen zu einem Projekt stellen?\nOder du möchtest dich gerne einfach mehr 
 vernetzen und diskutieren?\nOder auch einfach ein bisschen zuhören und mi
 t Freund:innen plaudern?\nDann bist du bei diesem Beisl richtig!\n\nWir fr
 euen uns auf dich!\n\nAb 19:00\nProgramm ab 19:30\nEnde 23:55
CATEGORIES:Café/Beisl,Freier Eintritt,habiTAT,Vortrag/Diskussion
LOCATION:Rappachgasse 26\, 1110 Wien\, \, 
X-APPLE-STRUCTURED-LOCATION;VALUE=URI;X-ADDRESS=\, ;X-APPLE-RADIUS=100;X-TI
 TLE=Rappachgasse 26\, 1110 Wien:geo:0,0
END:VEVENT
BEGIN:VTIMEZONE
TZID:Europe/Vienna
X-LIC-LOCATION:Europe/Vienna
BEGIN:STANDARD
DTSTART:20241027T020000
TZOFFSETFROM:+0200
TZOFFSETTO:+0100
TZNAME:CET
END:STANDARD
END:VTIMEZONE
END:VCALENDAR