BEGIN:VCALENDAR
VERSION:2.0
PRODID:-//wp-events-plugin.com//7.2.3.1//EN
TZID:Europe/Vienna
X-WR-TIMEZONE:Europe/Vienna
BEGIN:VEVENT
UID:76@schlor.org
DTSTART;TZID=Europe/Vienna:20221125T143000
DTEND;TZID=Europe/Vienna:20221125T160000
DTSTAMP:20221024T194409Z
URL:https://schlor.org/en/events/fuhrung-im-rahmen-der-reihe-futurechanges
 /
SUMMARY:Führung im Rahmen der Reihe future:changes
DESCRIPTION:Was? Führung im Rahmen der Reihe future:changes\nWann? 25.11.2
 022\, 14:30-16:00\nWo? SchloR\, Rappachgasse 26\, 1110 Wien\n\nAm Freitag\
 , 25.11.2022\, gibt es um 14:30 Uhr die Möglichkeit\, das Wohn- und Kultu
 rprojekt SchloR bei einer Führung vor Ort kennenzulernen.\n\nDie Führung
  findet im Rahmen der Reihe future:changes statt. \n\nIm Rahmen dieser Rei
 he findet am 22. November im Albert-Schweitzer-Haus eine Veranstaltung unt
 er dem Titel »Die Häuser denen\, die drin wohnen?!« u.a. mit SchloR sta
 tt.\n\nInfos: www.ash-forum.at
CATEGORIES:Freier Eintritt,Rundgang
LOCATION:SchloR\, Rappachgasse 26\, Wien\, Wien\, 1110\, Wien\, Austria
X-APPLE-STRUCTURED-LOCATION;VALUE=URI;X-ADDRESS=Rappachgasse 26\, Wien\, Wi
 en\, 1110\, Wien\, Austria;X-APPLE-RADIUS=100;X-TITLE=SchloR:geo:0,0
END:VEVENT
BEGIN:VTIMEZONE
TZID:Europe/Vienna
X-LIC-LOCATION:Europe/Vienna
BEGIN:STANDARD
DTSTART:20221030T020000
TZOFFSETFROM:+0200
TZOFFSETTO:+0100
TZNAME:CET
END:STANDARD
END:VTIMEZONE
END:VCALENDAR