BEGIN:VCALENDAR
VERSION:2.0
PRODID:-//wp-events-plugin.com//7.2.3.1//EN
TZID:Europe/Vienna
X-WR-TIMEZONE:Europe/Vienna
BEGIN:VEVENT
UID:162@schlor.org
DTSTART;TZID=Europe/Vienna:20241106T190000
DTEND;TZID=Europe/Vienna:20241106T234500
DTSTAMP:20241104T144120Z
URL:https://schlor.org/en/events/drug-searching-dogs-x-zwinger/
SUMMARY:Drug Searching Dogs X ZWINGER
DESCRIPTION:Drug Searching Dogs X ZWINGER\n\nAlbum Release Kickoff Tour at 
 SchloRina Beisl\n\nThe DRUG SEARCHING DOGS mark their territory by surpass
 ing the capacities of your fav club’s PA. Drawing inspiration from Gabbe
 r\, Harsh Noise and Punk\, the Viennese trio blasts an amalgam of heavily 
 distorted walls of bass\, screeching feedback and razor-edge vocals.\n\n@d
 rugsearchingdogs\nhttps://dsd.klingt.org\n\nSupport:\n\nDer verlorene Fade
 n (DE\, Leipzig) - noise/powerelectronics/dramatic @micha.von.elend\n\nMic
 ha is an angry woman-believe it or not! She loves playing with her bassgui
 tar\, her trash can\, a lot of broken toys\, words and emotions. Absolute 
 destruction\, little monsters\, sweet rainbows and excess! Failure include
 d! Beware!\n\n@micha.von.elend\n\nhttps://grubenwehrfreiburg.bandcamp.com/
 track/losing-is-in-any-direction\n\nSanna Lu Una (Wien) @sanna.lu.una\n\nD
 ense voice\, accompanied by strings\, ambient synths\, heroic brass\, vibr
 ant field recordings andmetallic beats.\n\nSanna Lu Una\, producer and voc
 alist\, creates new worlds with her music and places them in the wide wate
 rs of avant-garde pop. She deals with existentialist questions and playful
 ly wraps them in fantastic images. Like dream language\, the lyrics commun
 icate via metaphors and symbols and enable vivid and visual reflection. Si
 nce 2020 she is performing live\, transforming dark clubs into vast landsc
 apes and giving free rein to her nature.\n\n&nbsp\;\n\n🦴 🦴 🦴\n\n&
 nbsp\;\n\nEVENT:\n\n🐶 06/11/2024 SCHLOR - RAPPACHGASSE 26\, 1110 Wien\n
 \n🐶 DOORS: 19H\n\n🐶 CONCERTS: 21H\n\n🦴 🦴 🦴\n\n&nbsp\;\n\n
CATEGORIES:CRAP,Externe Veranstaltung,Freie Spende,Konzert
LOCATION:Rappachgasse 26\, 1110 Wien\, \, 
X-APPLE-STRUCTURED-LOCATION;VALUE=URI;X-ADDRESS=\, ;X-APPLE-RADIUS=100;X-TI
 TLE=Rappachgasse 26\, 1110 Wien:geo:0,0
END:VEVENT
BEGIN:VTIMEZONE
TZID:Europe/Vienna
X-LIC-LOCATION:Europe/Vienna
BEGIN:STANDARD
DTSTART:20241027T020000
TZOFFSETFROM:+0200
TZOFFSETTO:+0100
TZNAME:CET
END:STANDARD
END:VTIMEZONE
END:VCALENDAR