BEGIN:VCALENDAR
VERSION:2.0
PRODID:-//wp-events-plugin.com//7.2.3.1//EN
TZID:Europe/Vienna
X-WR-TIMEZONE:Europe/Vienna
BEGIN:VEVENT
UID:2@schlor.org
DTSTART;TZID=Europe/Vienna:20190709T204500
DTEND;TZID=Europe/Vienna:20190709T204500
DTSTAMP:20190709T093611Z
URL:https://schlor.org/en/events/der-stoff-aus-dem-traume-sind/
SUMMARY:Film: Der Stoff\, aus dem Träume sind
DESCRIPTION:Open Air Screening heute\, 21 Uhr\, am Karlsplatz. Vor Filmbegi
 nn gibt es ein Gespräch u.a. mit uns als Teil des habiTAT.\n\nDer Stoff\,
  aus dem Träume sind\nLotte Schreiber\, Michael Rieper | AUT 2019 | 75’
  | OmeU\n\nUtopie: Wohnen!? Utopie: Gemeinschaft!? Welche gemeinschaftlich
 en Wohnformen werden gelebt\, was steckt hinter der Idee von gemeinschaftl
 ichem Eigentum und was ist eigentlich das Miethäusersyndikat? Lotte Schre
 iber und Michael Rieper portraitieren fünf selbstorganisierte und -verwal
 tete Wohnprojekte in Graz\, Gänserndorf\, Wien und Linz\, die im Zeitraum
  1975 bis 2015 entstanden sind. Erforscht werden gemeinsame Utopien\, arch
 itektonische Prämissen\, mit Zusammenleben einhergehende Konflikte und Be
 dürfnisse der Initiator_innen\, Architekt_innen und Bewohner_innen.\n\nww
 w.derstoff.at\n\nVeranstaltungslink: https://www.facebook.com/events/33550
 6910462403/
CATEGORIES:Externe Veranstaltung,Film,Startseite Termin
LOCATION:Karlsplatz\, Karlsplatz\, Wien\, 1040\, Austria
X-APPLE-STRUCTURED-LOCATION;VALUE=URI;X-ADDRESS=Karlsplatz\, Wien\, 1040\, 
 Austria;X-APPLE-RADIUS=100;X-TITLE=Karlsplatz:geo:0,0
END:VEVENT
BEGIN:VTIMEZONE
TZID:Europe/Vienna
X-LIC-LOCATION:Europe/Vienna
BEGIN:DAYLIGHT
DTSTART:20190331T030000
TZOFFSETFROM:+0100
TZOFFSETTO:+0200
TZNAME:CEST
END:DAYLIGHT
END:VTIMEZONE
END:VCALENDAR