BEGIN:VCALENDAR
VERSION:2.0
PRODID:-//wp-events-plugin.com//7.2.3.1//EN
TZID:Europe/Vienna
X-WR-TIMEZONE:Europe/Vienna
BEGIN:VEVENT
UID:149@schlor.org
DTSTART;TZID=Europe/Vienna:20231217T140000
DTEND;TZID=Europe/Vienna:20231217T210000
DTSTAMP:20231212T181359Z
URL:https://schlor.org/en/events/crap-wintersalon-2024/
SUMMARY:CRAP Wintersalon 2024
DESCRIPTION:\n\n\n\n\n\nLiebe Freund*innen des Winters – es ist wieder so
 weit! Zum zweiten Mal gestalten die Ateliernutzer*innen bei CRAP (dem krea
 tiven Betrieb bei @schlor_)einen Wintersalon. Es wird winterlich und es ka
 nn unterschiedliches Kunsthandwerk erworben werden. Wir haben es uns auch 
 nicht nehmen lassen auch andere Künstler*innen einzuladen.Wir freuen uns\
 , wenn ihr uns an diesem winterlichen Sonntag (17.12.) 14-21 Uhr einen Bes
 uch abstattet.\nDear friends and lovely people! We invite you to the secon
 d edition of the Wintersalon. Sunday 17.12. you can pass by for soli-punch
 \, arts\, crafts\, honey and ceramics! Treat yourself and your dearest\n\n
 \n\n\n\n
CATEGORIES:Startseite Termin
LOCATION:Rappachgasse 26\, 1110 Wien\, \, 
X-APPLE-STRUCTURED-LOCATION;VALUE=URI;X-ADDRESS=\, ;X-APPLE-RADIUS=100;X-TI
 TLE=Rappachgasse 26\, 1110 Wien:geo:0,0
END:VEVENT
BEGIN:VTIMEZONE
TZID:Europe/Vienna
X-LIC-LOCATION:Europe/Vienna
BEGIN:STANDARD
DTSTART:20231029T020000
TZOFFSETFROM:+0200
TZOFFSETTO:+0100
TZNAME:CET
END:STANDARD
END:VTIMEZONE
END:VCALENDAR