BEGIN:VCALENDAR
VERSION:2.0
PRODID:-//wp-events-plugin.com//7.2.3.1//EN
TZID:Europe/Vienna
X-WR-TIMEZONE:Europe/Vienna
BEGIN:VEVENT
UID:140@schlor.org
DTSTART;TZID=Europe/Vienna:20230412T180000
DTEND;TZID=Europe/Vienna:20230412T234500
DTSTAMP:20230411T153504Z
URL:https://schlor.org/en/events/crap-geburtstagsbeisl/
SUMMARY:CRAP Geburtstagsbeisl
DESCRIPTION:CRAP feiert zum ersten Mal Geburtstag! Vor einem Jahr hat unser
  Kreativbetrieb seine Pforten geöffnet\, seitdem wurde viel getöpfert\, 
 gezeichnet\, gemalt\, gebastelt\, veranstaltet\, getischlert\, geschraubt\
 , geprobt\, etc. Am 12.4. ab 18:00 feiern wir diesen festlichen Anlass mit
  einem Geburtstagsbeisl @ Rappachgasse 26.
ATTACH;FMTTYPE=image/jpeg:https://schlor.org/wp-content/uploads/2023/04/cr
 ap-geb.jpeg
CATEGORIES:Café/Beisl,CRAP,Freie Spende,Startseite Termin
LOCATION:Rappachgasse 26\, 1110 Wien\, \, 
X-APPLE-STRUCTURED-LOCATION;VALUE=URI;X-ADDRESS=\, ;X-APPLE-RADIUS=100;X-TI
 TLE=Rappachgasse 26\, 1110 Wien:geo:0,0
END:VEVENT
BEGIN:VTIMEZONE
TZID:Europe/Vienna
X-LIC-LOCATION:Europe/Vienna
BEGIN:DAYLIGHT
DTSTART:20230326T030000
TZOFFSETFROM:+0100
TZOFFSETTO:+0200
TZNAME:CEST
END:DAYLIGHT
END:VTIMEZONE
END:VCALENDAR