BEGIN:VCALENDAR
VERSION:2.0
PRODID:-//wp-events-plugin.com//7.2.3.1//EN
TZID:Europe/Vienna
X-WR-TIMEZONE:Europe/Vienna
BEGIN:VEVENT
UID:159@schlor.org
DTSTART;TZID=Europe/Vienna:20241012T130000
DTEND;TZID=Europe/Vienna:20241012T190000
DTSTAMP:20241011T113536Z
URL:https://schlor.org/en/events/a-punk-market-ii/
SUMMARY:A PUNK MARKET II
DESCRIPTION:[caption id="attachment_32229" align="alignnone" width="304"] [
 /caption]\n\nFALL PUNK MARKET\n\nSolitattoos\nKonzerte\nInfotische \nKids 
 Corner\nDIY Artists\nFood\n\nDer Markt ist frei\, für Konzerte sind Spend
 en aber erwünscht! \n\nDa am Gelände mehrere Tier wohnen\, lass deines b
 itte zu Hause. \n\nDonation Cause: Raising Money for Anarchist Comrades in
  Ukraine\n\n[caption id="attachment_32228" align="alignnone" width="400"] 
 [/caption]
CATEGORIES:Café/Beisl,Externe Veranstaltung,Freie
 Spende,Konzert,Markt,Startseite Termin,TRAP
LOCATION:Rappachgasse 26\, 1110 Wien\, \, 
X-APPLE-STRUCTURED-LOCATION;VALUE=URI;X-ADDRESS=\, ;X-APPLE-RADIUS=100;X-TI
 TLE=Rappachgasse 26\, 1110 Wien:geo:0,0
END:VEVENT
BEGIN:VTIMEZONE
TZID:Europe/Vienna
X-LIC-LOCATION:Europe/Vienna
BEGIN:DAYLIGHT
DTSTART:20240331T030000
TZOFFSETFROM:+0100
TZOFFSETTO:+0200
TZNAME:CEST
END:DAYLIGHT
END:VTIMEZONE
END:VCALENDAR