BEGIN:VCALENDAR
VERSION:2.0
PRODID:-//wp-events-plugin.com//7.2.3.1//EN
TZID:Europe/Vienna
X-WR-TIMEZONE:Europe/Vienna
BEGIN:VEVENT
UID:62@schlor.org
DTSTART;TZID=Europe/Vienna:20220706T190000
DTEND;TZID=Europe/Vienna:20220706T210000
DTSTAMP:20220704T161258Z
URL:https://schlor.org/en/events/2022-juli-habitat-stammtisch/
SUMMARY:habiTAT Beratung & Stammtisch
DESCRIPTION:Was und wer steckt hinter dem habiTAT? Wie kann ich Immobilen-S
 pekulation nach dem habiTAT-Modell ein Schnippchen schlagen? Wie gründe i
 ch selbst ein habiTAT-MietshäuserSyndikat-Projekt?\n\nEinmal im Monat ste
 hen wir für eure Fragen zur Verfügung. Oder einfach nur für ein erstes 
 Kennenlernen!\n\nWann? 6.7.\, 19h\nWas? habiTAT Beratung &amp\; Stammtisch
 \nWo? SchloR\, Rappachgasse 26\, 1110 Wien\n\nDer Stammtisch wird von den 
 habiTAT-Projekten SchloR – Schöner Leben (Wien-Simmering) und Autonome 
 Wohnfabrik (Salzburg) begleitet.\n&nbsp\;
ATTACH;FMTTYPE=image/jpeg:https://schlor.org/wp-content/uploads/2022/07/ha
 biTAT-Stammtisch-Juli-2022.jpg
CATEGORIES:Café/Beisl,CRAP,Freier Eintritt,habiTAT,Startseite Termin
LOCATION:SchloR\, Rappachgasse 26\, Wien\, Wien\, 1110\, Wien\, Austria
X-APPLE-STRUCTURED-LOCATION;VALUE=URI;X-ADDRESS=Rappachgasse 26\, Wien\, Wi
 en\, 1110\, Wien\, Austria;X-APPLE-RADIUS=100;X-TITLE=SchloR:geo:0,0
END:VEVENT
BEGIN:VTIMEZONE
TZID:Europe/Vienna
X-LIC-LOCATION:Europe/Vienna
BEGIN:DAYLIGHT
DTSTART:20220327T030000
TZOFFSETFROM:+0100
TZOFFSETTO:+0200
TZNAME:CEST
END:DAYLIGHT
END:VTIMEZONE
END:VCALENDAR