BEGIN:VCALENDAR
VERSION:2.0
PRODID:-//wp-events-plugin.com//7.2.3.1//EN
TZID:Europe/Vienna
X-WR-TIMEZONE:Europe/Vienna
BEGIN:VEVENT
UID:201@schlor.org
DTSTART;TZID=Europe/Vienna:20260423T190000
DTEND;TZID=Europe/Vienna:20260423T230000
DTSTAMP:20260201T105423Z
URL:https://schlor.org/events/2-pub-quiz-spring-edition/
SUMMARY:2. Pub Quiz – Spring Edition
DESCRIPTION:***english below***\nAm 23. April 2026 findet das zweite Pub Qu
 iz unserer Frühlingsreihe statt.Ein Einstieg ist jederzeit möglich – d
 u musst nicht beim ersten Quiz dabei gewesen sein.\nDas Quiz ist zweisprac
 hig (Deutsch &amp\; Englisch).\nDas erwartet euch:\n⏰ Uhrzeit: 19:00–2
 3:00 Uhr🧠 Mehrere Runden – Fragen aus verschiedenen Kategorien👥 Te
 amwork – Komm alleine oder mit einem Team (bis zu 4 Personen) - alle sin
 d willkommen🏆 Preise – Es gibt etwas zu gewinnen🎁 Bonus – Wer be
 i allen drei Quizabenden dabei ist\, darf sich auf eine kleine Überraschu
 ng freuen\nDie Regeln werden zu Beginn erklärt\, also keine Sorge\, wenn 
 du neu dabei bist.\nWir freuen uns auf dich und einen spannenden gemeinsam
 en Abend!\n📅 Weiterer Termin:28. Mai 2026\n\n\n\nEnglish\nThe second qu
 iz night of our Spring Pub Quiz Series takes place on April 23\, 2026.You 
 can join at any time – no need to have attended the first quiz night.\nT
 he quiz is bilingual (German &amp\; English).\nWhat to expect:\n⏰ Time: 
 7:00 PM – 11:00 PM🧠 Multiple rounds – Questions from a variety of c
 ategories👥 Teamwork – Come alone or with a team (up to 4 people)\, ev
 eryone is welcome🏆 Prizes – There’s something to win🎁 Bonus – 
 Attend all three quiz nights and enjoy a small surprise\nThe rules will be
  explained at the start\, so no worries if it’s your first time.\nWe’r
 e looking forward to seeing you for another fun and exciting quiz night! 
 🍻\n📅 Additional date:May 28\, 2026\n
CATEGORIES:Café/Beisl
LOCATION:Rappachgasse 26\, 1110 Wien\, \, 
X-APPLE-STRUCTURED-LOCATION;VALUE=URI;X-ADDRESS=\, ;X-APPLE-RADIUS=100;X-TI
 TLE=Rappachgasse 26\, 1110 Wien:geo:0,0
END:VEVENT
BEGIN:VEVENT
UID:212@schlor.org
DTSTART;TZID=Europe/Vienna:20260427T183000
DTEND;TZID=Europe/Vienna:20260427T213000
DTSTAMP:20260312T074456Z
URL:https://schlor.org/events/tinte-kreative-selbsterfahrung-3/
SUMMARY:TINte Kreative Selbsterfahrung
DESCRIPTION:\n\n***English below***\n\nEMPOWERNDES GRUPPENANGEBOT ZU DEN TH
 EMEN GESCHLECHTSIDENTITÄT UND TRANSITION\n\nDie TINte ist ein Angebot fü
 r erwachsene Menschen\, die Lust auf Selbsterfahrung und Austausch mit and
 eren zum Thema Geschlechtsidentität und Transition haben und denen kreati
 ver Ausdruck Spaß macht. TINte ist ein mal-und gestaltungstherapeutisches
  Gruppenangebot. Keine künstlerischen Vorkenntnisse notwendig!\n\nDie TER
 MINE für die nächste Gruppe stehen fest: Frühling 2026!\n\n\n1.4.\, 15.
 4.\, 27.4.\, 11.5.\, 20.5.\, 3.6.\, 17.6.\, 29.6.\, 8.7.\, 15.7.(oder 22.7
 .!) 2026 jeweils 18:30 – 21:30!\n\nKosten: sliding scale 30 – 60 – 
 90 € pro abend inkl. Material (oder irgendwo dazwischen -Anleitung zur S
 elbsteinschätzung erfolgt bei Anmeldung).\n\nGruppenbegleitung: Leno Gass
 er (Kunsttherpaie\, Sozialarbeit\, Traumapädagogik) und Ra Bettel (Grafik
 \, Kunsttherapie)\n\nVoranmeldung und Information:\nmgt.gasser@gmail.com\n
 \nTINte steht für trans*\, inter*\, non-binary _ \, Transition und Empow
 erment.\n\n\n***************English**********************\n\nCreative Empo
 werment group on the topic of transition.\n\nAre you interested in self-aw
 areness on the topic of gender identity? Do you long for exchange with oth
 ers on the topic of transition and also want to be creative? Then TINte mi
 ght be a space for you. No previous artistic knowledge is necessary!\n\nTh
 e Dates for the next group are out: spring 2026!\n\n1.4.\, 15.4.\, 27.4.\,
  11.5.\, 20.5.\, 3.6.\, 17.6.\, 29.6.\, 8.7.\, 15.7. 2026 always 18:30 –
  21:30!\n\nCosts: sliding scale 30 – 60 – 90 € per evening incl. Ma
 terial (or somewhere in between – we send guidance for self-assessment w
 hen you register).\n\nHosts: Leno Gasser (social worker\, art therapist) u
 nd Ra Bettel (art therapist)\n\nRegistration and Information:\nmgt.gasser@
 gmail.com\n\nTINTE means „ink“ in German and stands for trans\, inter
 \, non-binary _\, Transition and Empowerment.
CATEGORIES:CRAP,Mitmachen,Workshop
END:VEVENT
BEGIN:VEVENT
UID:206@schlor.org
DTSTART;TZID=Europe/Vienna:20260429T180000
DTEND;TZID=Europe/Vienna:20260429T220000
DTSTAMP:20260208T140001Z
URL:https://schlor.org/events/ping-pong-beisl-3/
SUMMARY:Ping Pong Beisl
DESCRIPTION:Einfach vorbeikommen\, mitspielen\, plaudern und was trinken.Wi
 r stellen die Platte auf\, spielen Ringerl und kurze Spiele – ganz entsp
 annt\, ohne Leistungsdruck. Schläger gibt es vor Ort.\n\n SchloR - Rappac
 hgasse 26\, 1110 Wien  Termine: 29.4.\, 7.5. und 18.6. (18:00-22:00)  Mi
 t Musik &amp\; Getränken  Für alle Spielniveaus\n\nPing Pong Beisl is b
 ack at SchloR\n\nJust drop by\, play along\, chat and grab a drink.We set 
 up the table and play short\, fun games — relaxed\, no pressure. Paddles
  provided.\n\n SchloR – Rappachgasse 26\, 1110 Vienna  Dates: April 29\
 , May 7 and June 18 (6-10 PM)  Music &amp\; drinks  All skill levels wel
 come\n\n\n
CATEGORIES:Café/Beisl
END:VEVENT
BEGIN:VEVENT
UID:207@schlor.org
DTSTART;TZID=Europe/Vienna:20260507T180000
DTEND;TZID=Europe/Vienna:20260507T220000
DTSTAMP:20260208T140258Z
URL:https://schlor.org/events/ping-pong-beisl-4/
SUMMARY:Ping Pong Beisl
DESCRIPTION:Einfach vorbeikommen\, mitspielen\, plaudern und was trinken.Wi
 r stellen die Platte auf\, spielen Ringerl und kurze Spiele – ganz entsp
 annt\, ohne Leistungsdruck. Schläger gibt es vor Ort.\n\n SchloR - Rappac
 hgasse 26\, 1110 Wien  Termine: 7.5. und 18.6. (18:00-22:00)  Mit Musik 
 &amp\; Getränken  Für alle Spielniveaus\n\nPing Pong Beisl is back at S
 chloR\n\nJust drop by\, play along\, chat and grab a drink.We set up the t
 able and play short\, fun games — relaxed\, no pressure. Paddles provide
 d.\n\n SchloR – Rappachgasse 26\, 1110 Vienna  Dates: May 7 and June 18
  (6-10 PM)  Music &amp\; drinks  All skill levels welcome
CATEGORIES:Café/Beisl
END:VEVENT
BEGIN:VEVENT
UID:213@schlor.org
DTSTART;TZID=Europe/Vienna:20260511T183000
DTEND;TZID=Europe/Vienna:20260511T213000
DTSTAMP:20260312T074609Z
URL:https://schlor.org/events/tinte-kreative-selbsterfahrung-4/
SUMMARY:TINte Kreative Selbsterfahrung
DESCRIPTION:\n\n***English below***\n\nEMPOWERNDES GRUPPENANGEBOT ZU DEN TH
 EMEN GESCHLECHTSIDENTITÄT UND TRANSITION\n\nDie TINte ist ein Angebot fü
 r erwachsene Menschen\, die Lust auf Selbsterfahrung und Austausch mit and
 eren zum Thema Geschlechtsidentität und Transition haben und denen kreati
 ver Ausdruck Spaß macht. TINte ist ein mal-und gestaltungstherapeutisches
  Gruppenangebot. Keine künstlerischen Vorkenntnisse notwendig!\n\nDie TER
 MINE für die nächste Gruppe stehen fest: Frühling 2026!\n\n\n1.4.\, 15.
 4.\, 27.4.\, 11.5.\, 20.5.\, 3.6.\, 17.6.\, 29.6.\, 8.7.\, 15.7.(oder 22.7
 .!) 2026 jeweils 18:30 – 21:30!\n\nKosten: sliding scale 30 – 60 – 
 90 € pro abend inkl. Material (oder irgendwo dazwischen -Anleitung zur S
 elbsteinschätzung erfolgt bei Anmeldung).\n\nGruppenbegleitung: Leno Gass
 er (Kunsttherpaie\, Sozialarbeit\, Traumapädagogik) und Ra Bettel (Grafik
 \, Kunsttherapie)\n\nVoranmeldung und Information:\nmgt.gasser@gmail.com\n
 \nTINte steht für trans*\, inter*\, non-binary _ \, Transition und Empow
 erment.\n\n\n***************English**********************\n\nCreative Empo
 werment group on the topic of transition.\n\nAre you interested in self-aw
 areness on the topic of gender identity? Do you long for exchange with oth
 ers on the topic of transition and also want to be creative? Then TINte mi
 ght be a space for you. No previous artistic knowledge is necessary!\n\nTh
 e Dates for the next group are out: spring 2026!\n\n1.4.\, 15.4.\, 27.4.\,
  11.5.\, 20.5.\, 3.6.\, 17.6.\, 29.6.\, 8.7.\, 15.7. 2026 always 18:30 –
  21:30!\n\nCosts: sliding scale 30 – 60 – 90 € per evening incl. Ma
 terial (or somewhere in between – we send guidance for self-assessment w
 hen you register).\n\nHosts: Leno Gasser (social worker\, art therapist) u
 nd Ra Bettel (art therapist)\n\nRegistration and Information:\nmgt.gasser@
 gmail.com\n\nTINTE means „ink“ in German and stands for trans\, inter
 \, non-binary _\, Transition and Empowerment.
CATEGORIES:CRAP,Kreativ,Mitmachen,Workshop
END:VEVENT
BEGIN:VEVENT
UID:214@schlor.org
DTSTART;TZID=Europe/Vienna:20260520T183000
DTEND;TZID=Europe/Vienna:20260520T213000
DTSTAMP:20260312T074711Z
URL:https://schlor.org/events/tinte-kreative-selbsterfahrung-5/
SUMMARY:TINte Kreative Selbsterfahrung
DESCRIPTION:\n\n***English below***\n\nEMPOWERNDES GRUPPENANGEBOT ZU DEN TH
 EMEN GESCHLECHTSIDENTITÄT UND TRANSITION\n\nDie TINte ist ein Angebot fü
 r erwachsene Menschen\, die Lust auf Selbsterfahrung und Austausch mit and
 eren zum Thema Geschlechtsidentität und Transition haben und denen kreati
 ver Ausdruck Spaß macht. TINte ist ein mal-und gestaltungstherapeutisches
  Gruppenangebot. Keine künstlerischen Vorkenntnisse notwendig!\n\nDie TER
 MINE für die nächste Gruppe stehen fest: Frühling 2026!\n\n\n1.4.\, 15.
 4.\, 27.4.\, 11.5.\, 20.5.\, 3.6.\, 17.6.\, 29.6.\, 8.7.\, 15.7.(oder 22.7
 .!) 2026 jeweils 18:30 – 21:30!\n\nKosten: sliding scale 30 – 60 – 
 90 € pro abend inkl. Material (oder irgendwo dazwischen -Anleitung zur S
 elbsteinschätzung erfolgt bei Anmeldung).\n\nGruppenbegleitung: Leno Gass
 er (Kunsttherpaie\, Sozialarbeit\, Traumapädagogik) und Ra Bettel (Grafik
 \, Kunsttherapie)\n\nVoranmeldung und Information:\nmgt.gasser@gmail.com\n
 \nTINte steht für trans*\, inter*\, non-binary _ \, Transition und Empow
 erment.\n\n\n***************English**********************\n\nCreative Empo
 werment group on the topic of transition.\n\nAre you interested in self-aw
 areness on the topic of gender identity? Do you long for exchange with oth
 ers on the topic of transition and also want to be creative? Then TINte mi
 ght be a space for you. No previous artistic knowledge is necessary!\n\nTh
 e Dates for the next group are out: spring 2026!\n\n1.4.\, 15.4.\, 27.4.\,
  11.5.\, 20.5.\, 3.6.\, 17.6.\, 29.6.\, 8.7.\, 15.7. 2026 always 18:30 –
  21:30!\n\nCosts: sliding scale 30 – 60 – 90 € per evening incl. Ma
 terial (or somewhere in between – we send guidance for self-assessment w
 hen you register).\n\nHosts: Leno Gasser (social worker\, art therapist) u
 nd Ra Bettel (art therapist)\n\nRegistration and Information:\nmgt.gasser@
 gmail.com\n\nTINTE means „ink“ in German and stands for trans\, inter
 \, non-binary _\, Transition and Empowerment.
CATEGORIES:CRAP,Kreativ,Mitmachen,Workshop
END:VEVENT
BEGIN:VEVENT
UID:216@schlor.org
DTSTART;TZID=Europe/Vienna:20260520T183000
DTEND;TZID=Europe/Vienna:20260520T213000
DTSTAMP:20260312T074923Z
URL:https://schlor.org/events/tinte-kreative-selbsterfahrung-7/
SUMMARY:TINte Kreative Selbsterfahrung
DESCRIPTION:\n\n***English below***\n\nEMPOWERNDES GRUPPENANGEBOT ZU DEN TH
 EMEN GESCHLECHTSIDENTITÄT UND TRANSITION\n\nDie TINte ist ein Angebot fü
 r erwachsene Menschen\, die Lust auf Selbsterfahrung und Austausch mit and
 eren zum Thema Geschlechtsidentität und Transition haben und denen kreati
 ver Ausdruck Spaß macht. TINte ist ein mal-und gestaltungstherapeutisches
  Gruppenangebot. Keine künstlerischen Vorkenntnisse notwendig!\n\nDie TER
 MINE für die nächste Gruppe stehen fest: Frühling 2026!\n\n\n1.4.\, 15.
 4.\, 27.4.\, 11.5.\, 20.5.\, 3.6.\, 17.6.\, 29.6.\, 8.7.\, 15.7.(oder 22.7
 .!) 2026 jeweils 18:30 – 21:30!\n\nKosten: sliding scale 30 – 60 – 
 90 € pro abend inkl. Material (oder irgendwo dazwischen -Anleitung zur S
 elbsteinschätzung erfolgt bei Anmeldung).\n\nGruppenbegleitung: Leno Gass
 er (Kunsttherpaie\, Sozialarbeit\, Traumapädagogik) und Ra Bettel (Grafik
 \, Kunsttherapie)\n\nVoranmeldung und Information:\nmgt.gasser@gmail.com\n
 \nTINte steht für trans*\, inter*\, non-binary _ \, Transition und Empow
 erment.\n\n\n***************English**********************\n\nCreative Empo
 werment group on the topic of transition.\n\nAre you interested in self-aw
 areness on the topic of gender identity? Do you long for exchange with oth
 ers on the topic of transition and also want to be creative? Then TINte mi
 ght be a space for you. No previous artistic knowledge is necessary!\n\nTh
 e Dates for the next group are out: spring 2026!\n\n1.4.\, 15.4.\, 27.4.\,
  11.5.\, 20.5.\, 3.6.\, 17.6.\, 29.6.\, 8.7.\, 15.7. 2026 always 18:30 –
  21:30!\n\nCosts: sliding scale 30 – 60 – 90 € per evening incl. Ma
 terial (or somewhere in between – we send guidance for self-assessment w
 hen you register).\n\nHosts: Leno Gasser (social worker\, art therapist) u
 nd Ra Bettel (art therapist)\n\nRegistration and Information:\nmgt.gasser@
 gmail.com\n\nTINTE means „ink“ in German and stands for trans\, inter
 \, non-binary _\, Transition and Empowerment.
CATEGORIES:CRAP,Kreativ,Mitmachen,Workshop
END:VEVENT
BEGIN:VEVENT
UID:202@schlor.org
DTSTART;TZID=Europe/Vienna:20260528T190000
DTEND;TZID=Europe/Vienna:20260528T230000
DTSTAMP:20260201T105911Z
URL:https://schlor.org/events/3-pub-quiz-spring-edition/
SUMMARY:3. Pub Quiz – Spring Edition
DESCRIPTION:Am 28. Mai 2026 findet das letzte Pub Quiz unserer Frühlingsre
 ihe statt.Jeder Quizabend ist unabhängig – du kannst also jederzeit ein
 steigen\, auch wenn du bei den vorherigen Terminen nicht dabei warst.\nDas
  Quiz ist zweisprachig (Deutsch &amp\; Englisch).\nDas erwartet euch:\n⏰
  Uhrzeit: 19:00–23:00 Uhr🧠 Mehrere Runden – Fragen aus verschiedene
 n Kategorien👥 Teamwork – Komm alleine oder mit einem Team (bis zu 4 P
 ersonen) - alle sind willkommen🏆 Preise – Es gibt etwas zu gewinnen
 🎁 Bonus – Wer bei allen drei Quizabenden dabei ist\, darf sich auf ei
 ne kleine Überraschung freuen\nDie Regeln werden zu Beginn erklärt\, als
 o keine Sorge\, wenn du neu dabei bist.\nWir freuen uns auf dich und einen
  spannenden gemeinsamen Abend! 🍻\n\n\n\nEnglish\nThe final quiz night o
 f our Spring Pub Quiz Series takes place on May 28\, 2026.Each quiz night 
 stands on its own – you can join at any time\, even if you didn’t atte
 nd the previous quizzes.\nThe quiz is bilingual (German &amp\; English).\n
 What to expect:\n⏰ Time: 7:00 PM – 11:00 PM🧠 Multiple rounds – Qu
 estions from a variety of categories👥 Teamwork – Come alone or with a
  team (up to 4 people)\, everyone is welcome🏆 Prizes – There’s some
 thing to win🎁 Bonus – Attend all three quiz nights and enjoy a small 
 surprise\nThe rules will be explained at the start\, so no worries if it
 ’s your first time.\nWe’re looking forward to seeing you for another f
 un and exciting quiz night!\n\n
CATEGORIES:Café/Beisl
END:VEVENT
BEGIN:VEVENT
UID:215@schlor.org
DTSTART;TZID=Europe/Vienna:20260603T183000
DTEND;TZID=Europe/Vienna:20260603T213000
DTSTAMP:20260312T074804Z
URL:https://schlor.org/events/tinte-kreative-selbsterfahrung-6/
SUMMARY:TINte Kreative Selbsterfahrung
DESCRIPTION:\n\n***English below***\n\nEMPOWERNDES GRUPPENANGEBOT ZU DEN TH
 EMEN GESCHLECHTSIDENTITÄT UND TRANSITION\n\nDie TINte ist ein Angebot fü
 r erwachsene Menschen\, die Lust auf Selbsterfahrung und Austausch mit and
 eren zum Thema Geschlechtsidentität und Transition haben und denen kreati
 ver Ausdruck Spaß macht. TINte ist ein mal-und gestaltungstherapeutisches
  Gruppenangebot. Keine künstlerischen Vorkenntnisse notwendig!\n\nDie TER
 MINE für die nächste Gruppe stehen fest: Frühling 2026!\n\n\n1.4.\, 15.
 4.\, 27.4.\, 11.5.\, 20.5.\, 3.6.\, 17.6.\, 29.6.\, 8.7.\, 15.7.(oder 22.7
 .!) 2026 jeweils 18:30 – 21:30!\n\nKosten: sliding scale 30 – 60 – 
 90 € pro abend inkl. Material (oder irgendwo dazwischen -Anleitung zur S
 elbsteinschätzung erfolgt bei Anmeldung).\n\nGruppenbegleitung: Leno Gass
 er (Kunsttherpaie\, Sozialarbeit\, Traumapädagogik) und Ra Bettel (Grafik
 \, Kunsttherapie)\n\nVoranmeldung und Information:\nmgt.gasser@gmail.com\n
 \nTINte steht für trans*\, inter*\, non-binary _ \, Transition und Empow
 erment.\n\n\n***************English**********************\n\nCreative Empo
 werment group on the topic of transition.\n\nAre you interested in self-aw
 areness on the topic of gender identity? Do you long for exchange with oth
 ers on the topic of transition and also want to be creative? Then TINte mi
 ght be a space for you. No previous artistic knowledge is necessary!\n\nTh
 e Dates for the next group are out: spring 2026!\n\n1.4.\, 15.4.\, 27.4.\,
  11.5.\, 20.5.\, 3.6.\, 17.6.\, 29.6.\, 8.7.\, 15.7. 2026 always 18:30 –
  21:30!\n\nCosts: sliding scale 30 – 60 – 90 € per evening incl. Ma
 terial (or somewhere in between – we send guidance for self-assessment w
 hen you register).\n\nHosts: Leno Gasser (social worker\, art therapist) u
 nd Ra Bettel (art therapist)\n\nRegistration and Information:\nmgt.gasser@
 gmail.com\n\nTINTE means „ink“ in German and stands for trans\, inter
 \, non-binary _\, Transition and Empowerment.
CATEGORIES:CRAP,Kreativ,Mitmachen,Workshop
END:VEVENT
BEGIN:VEVENT
UID:208@schlor.org
DTSTART;TZID=Europe/Vienna:20260618T180000
DTEND;TZID=Europe/Vienna:20260618T220000
DTSTAMP:20260208T140456Z
URL:https://schlor.org/events/ping-pong-beisl-5/
SUMMARY:Ping Pong Beisl
DESCRIPTION:Einfach vorbeikommen\, mitspielen\, plaudern und was trinken.Wi
 r stellen die Platte auf\, spielen Ringerl und kurze Spiele – ganz entsp
 annt\, ohne Leistungsdruck. Schläger gibt es vor Ort.\n\n SchloR - Rappac
 hgasse 26\, 1110 Wien  18.6. (18:00-22:00)  Mit Musik &amp\; Getränken
   Für alle Spielniveaus\n\nPing Pong Beisl is back at SchloR\n\nJust dro
 p by\, play along\, chat and grab a drink.We set up the table and play sho
 rt\, fun games — relaxed\, no pressure. Paddles provided.\n\n SchloR –
  Rappachgasse 26\, 1110 Vienna  June 18 (6-10 PM)  Music &amp\; drinks 
  All skill levels welcome\n\n&nbsp\;
CATEGORIES:Startseite Termin
END:VEVENT
BEGIN:VTIMEZONE
TZID:Europe/Vienna
X-LIC-LOCATION:Europe/Vienna
BEGIN:DAYLIGHT
DTSTART:20260329T030000
TZOFFSETFROM:+0100
TZOFFSETTO:+0200
TZNAME:CEST
END:DAYLIGHT
END:VTIMEZONE
END:VCALENDAR